BEGIN:VCALENDAR
VERSION:2.0
PRODID:-// - ECPv6.15.19//NONSGML v1.0//EN
CALSCALE:GREGORIAN
METHOD:PUBLISH
X-ORIGINAL-URL:https://bsboffice.de
X-WR-CALDESC:Veranstaltungen für 
REFRESH-INTERVAL;VALUE=DURATION:PT1H
X-Robots-Tag:noindex
X-PUBLISHED-TTL:PT1H
BEGIN:VTIMEZONE
TZID:UTC
BEGIN:STANDARD
TZOFFSETFROM:+0000
TZOFFSETTO:+0000
TZNAME:UTC
DTSTART:20200101T000000
END:STANDARD
END:VTIMEZONE
BEGIN:VEVENT
DTSTART;VALUE=DATE:20210610
DTEND;VALUE=DATE:20210612
DTSTAMP:20260419T220432
CREATED:20210324T191818Z
LAST-MODIFIED:20210527T112655Z
UID:10958-1623283200-1623455999@bsboffice.de
SUMMARY:OFFICE FORUM Berlin
DESCRIPTION:Do.\, 10.06.2021\, 13:00 – Fr.\, 11.06.2021\, 17:00 in Berlin.  \nDorint Hotel Kurfürstendamm\, Berlin \n  \n\n\n\nEvent-Info\n\n\n\nEs erwartet Sie: ein spannendes 1/2-tägiges Seminar\, ein mitreißender Vortrag und interessante und thematisch aktuelle Workshops mit viel Wissensvermittlung. \n\n\n\n\n\n\n\n\n\n\n\n\n\n\n\nSeien Sie dabei und melden sich sofort an! \n\nProgramm und Ablauf \n\nAnmeldung auf XING
URL:https://bsboffice.de/event/office-forum/
LOCATION:Dorint Kurfürstendamm in Berlin\, Augsburger Str. 41\, Berlin\, 10789
CATEGORIES:bSb-Termine Bundesverband
ORGANIZER;CN="bSb Bundesverband Sekretariat und B%C3%BCromanagement e. V.":MAILTO:info@bsboffice.de
END:VEVENT
END:VCALENDAR