BEGIN:VCALENDAR
VERSION:2.0
PRODID:-// - ECPv6.15.19//NONSGML v1.0//EN
CALSCALE:GREGORIAN
METHOD:PUBLISH
X-ORIGINAL-URL:https://bsboffice.de
X-WR-CALDESC:Veranstaltungen für 
REFRESH-INTERVAL;VALUE=DURATION:PT1H
X-Robots-Tag:noindex
X-PUBLISHED-TTL:PT1H
BEGIN:VTIMEZONE
TZID:UTC
BEGIN:STANDARD
TZOFFSETFROM:+0000
TZOFFSETTO:+0000
TZNAME:UTC
DTSTART:20200101T000000
END:STANDARD
END:VTIMEZONE
BEGIN:VEVENT
DTSTART;TZID=UTC:20210614T190000
DTEND;TZID=UTC:20210614T203000
DTSTAMP:20260419T220243
CREATED:20210226T172308Z
LAST-MODIFIED:20210226T172308Z
UID:10889-1623697200-1623702600@bsboffice.de
SUMMARY:RG Köln: Digitalisierung - wohl bekommt's - Auf der Suche nach Effizienz zwischen Keksen\, Apps und Datenwahn
DESCRIPTION:Referentin: Dunja Schenk
URL:https://bsboffice.de/event/rg-koeln-digitalisierung-wohl-bekommts-auf-der-suche-nach-effizienz-zwischen-keksen-apps-und-datenwahn/
CATEGORIES:Regionalgruppe Köln,Regionalgruppen
END:VEVENT
END:VCALENDAR