BEGIN:VCALENDAR
VERSION:2.0
PRODID:-// - ECPv6.15.19//NONSGML v1.0//EN
CALSCALE:GREGORIAN
METHOD:PUBLISH
X-ORIGINAL-URL:https://bsboffice.de
X-WR-CALDESC:Veranstaltungen für 
REFRESH-INTERVAL;VALUE=DURATION:PT1H
X-Robots-Tag:noindex
X-PUBLISHED-TTL:PT1H
BEGIN:VTIMEZONE
TZID:UTC
BEGIN:STANDARD
TZOFFSETFROM:+0000
TZOFFSETTO:+0000
TZNAME:UTC
DTSTART:20200101T000000
END:STANDARD
END:VTIMEZONE
BEGIN:VEVENT
DTSTART;TZID=UTC:20210616T173000
DTEND;TZID=UTC:20210616T193000
DTSTAMP:20260419T220308
CREATED:20210225T103752Z
LAST-MODIFIED:20210225T103752Z
UID:10852-1623864600-1623871800@bsboffice.de
SUMMARY:RG Hannover: Besichtigung Flughafen Hannover-Langenhagen
DESCRIPTION:Vorfeld-Rundfahrt und Innenrunde\nmit Blick hinter die Kulissen\nKosten für Mitglieder: 6\,00 Euro/Gäste: 10\,00 Euro
URL:https://bsboffice.de/event/rg-hannover-besichtigung-flughafen-hannover-langenhagen-2/
CATEGORIES:Regionalgruppe Hannover,Regionalgruppen
ORGANIZER;CN="Regionalgruppe Hannover":MAILTO:hannover@bsb-office.de
END:VEVENT
END:VCALENDAR