BEGIN:VCALENDAR
VERSION:2.0
PRODID:-// - ECPv6.15.19//NONSGML v1.0//EN
CALSCALE:GREGORIAN
METHOD:PUBLISH
X-ORIGINAL-URL:https://bsboffice.de
X-WR-CALDESC:Veranstaltungen für 
REFRESH-INTERVAL;VALUE=DURATION:PT1H
X-Robots-Tag:noindex
X-PUBLISHED-TTL:PT1H
BEGIN:VTIMEZONE
TZID:UTC
BEGIN:STANDARD
TZOFFSETFROM:+0000
TZOFFSETTO:+0000
TZNAME:UTC
DTSTART:20200101T000000
END:STANDARD
END:VTIMEZONE
BEGIN:VEVENT
DTSTART;TZID=UTC:20210628T180000
DTEND;TZID=UTC:20210628T190000
DTSTAMP:20260421T113824
CREATED:20210124T192241Z
LAST-MODIFIED:20210603T180041Z
UID:10768-1624903200-1624906800@bsboffice.de
SUMMARY:RG Saar: "Deine Stimme zählt!“ Workshop Stimmbildung (via ZOOM)
DESCRIPTION:Inhalt:\n1. Stimmhygiene und Prävention\nWas kann ich mit wenig Aufwand tun\, um mich im Alltag auf meine Stimme verlassen zu können?\nWas mache ich bei Heiserkeit oder einem Kratzen im Hals?\n2. Stimmtraining\nVermittlung nachhaltiger Alltagsübungen mit praktischem Üben\nVerbesserung des Stimmklangs\nPrävention von Stimmbeschwerden \nDie Referentin:\nMartina Herrmann vom Institut Lebensfreude.\n• Staatlich examinierte Logopädin und Lerntherapeutin\n• Stimmtherapeutin\n• Fachtherapeutin für Lese-Rechtschreib-Schwäche \nKosten:\nbSb Mitglieder der RG Saar: aus der Umlage finanziert\nbSb Mitglieder anderer RGs: 15 Euro\nGäste: 25 Euro
URL:https://bsboffice.de/event/rg-saar-stimmtraining/
CATEGORIES:Regionalgruppe Saar,Regionalgruppen
END:VEVENT
END:VCALENDAR