BEGIN:VCALENDAR
VERSION:2.0
PRODID:-// - ECPv6.15.19//NONSGML v1.0//EN
CALSCALE:GREGORIAN
METHOD:PUBLISH
X-ORIGINAL-URL:https://bsboffice.de
X-WR-CALDESC:Veranstaltungen für 
REFRESH-INTERVAL;VALUE=DURATION:PT1H
X-Robots-Tag:noindex
X-PUBLISHED-TTL:PT1H
BEGIN:VTIMEZONE
TZID:UTC
BEGIN:STANDARD
TZOFFSETFROM:+0000
TZOFFSETTO:+0000
TZNAME:UTC
DTSTART:20200101T000000
END:STANDARD
END:VTIMEZONE
BEGIN:VEVENT
DTSTART;TZID=UTC:20210724T093000
DTEND;TZID=UTC:20210724T170000
DTSTAMP:20260419T200241
CREATED:20210615T151652Z
LAST-MODIFIED:20210615T151652Z
UID:11143-1627119000-1627146000@bsboffice.de
SUMMARY:RG Frankfurt: Geistig fit\, ein Leben lang\, mit MAT-Gehirnjogging
DESCRIPTION:*Exklusives Ganztagsevent nur für Mitglieder der RG Frankfurt* \nReferentin: Gudrun Müller
URL:https://bsboffice.de/event/rg-frankfurt-geistig-fit-ein-leben-lang-mit-mat-gehirnjogging/
LOCATION:Parkhotel am Taunus\, Hohemarkstr. 168\, Oberursel\, Hessen\, 61440\, Deutschland
CATEGORIES:Regionalgruppe Frankfurt,Regionalgruppen
ORGANIZER;CN="RG Frankfurt":MAILTO:frankfurt@bsboffice.de
END:VEVENT
END:VCALENDAR