BEGIN:VCALENDAR
VERSION:2.0
PRODID:-// - ECPv6.15.19//NONSGML v1.0//EN
CALSCALE:GREGORIAN
METHOD:PUBLISH
X-ORIGINAL-URL:https://bsboffice.de
X-WR-CALDESC:Veranstaltungen für 
REFRESH-INTERVAL;VALUE=DURATION:PT1H
X-Robots-Tag:noindex
X-PUBLISHED-TTL:PT1H
BEGIN:VTIMEZONE
TZID:UTC
BEGIN:STANDARD
TZOFFSETFROM:+0000
TZOFFSETTO:+0000
TZNAME:UTC
DTSTART:20200101T000000
END:STANDARD
END:VTIMEZONE
BEGIN:VEVENT
DTSTART;TZID=UTC:20210901T183000
DTEND;TZID=UTC:20210901T203000
DTSTAMP:20260419T122215
CREATED:20210808T215834Z
LAST-MODIFIED:20210808T215834Z
UID:11282-1630521000-1630528200@bsboffice.de
SUMMARY:RG Frankfurt: Back to Office - New Work
DESCRIPTION:Referentin: Susanne Busshart \nLocation: tba
URL:https://bsboffice.de/event/rg-frankfurt-back-to-office-new-work/
CATEGORIES:Regionalgruppe Frankfurt,Regionalgruppen
END:VEVENT
END:VCALENDAR