BEGIN:VCALENDAR
VERSION:2.0
PRODID:-// - ECPv6.15.19//NONSGML v1.0//EN
CALSCALE:GREGORIAN
METHOD:PUBLISH
X-ORIGINAL-URL:https://bsboffice.de
X-WR-CALDESC:Veranstaltungen für 
REFRESH-INTERVAL;VALUE=DURATION:PT1H
X-Robots-Tag:noindex
X-PUBLISHED-TTL:PT1H
BEGIN:VTIMEZONE
TZID:UTC
BEGIN:STANDARD
TZOFFSETFROM:+0000
TZOFFSETTO:+0000
TZNAME:UTC
DTSTART:20200101T000000
END:STANDARD
END:VTIMEZONE
BEGIN:VEVENT
DTSTART;TZID=UTC:20210915T160000
DTEND;TZID=UTC:20210915T180000
DTSTAMP:20260419T163206
CREATED:20210225T104637Z
LAST-MODIFIED:20210721T181457Z
UID:10857-1631721600-1631728800@bsboffice.de
SUMMARY:RG Hannover: Besichtigung Klosterstollen
DESCRIPTION:Bergwerksmuseum-Besucherbergwerk Grubeneinfahrt\nKosten für Mitglieder: 15\,00 Euro/Gäste: 20\,00 Euro
URL:https://bsboffice.de/event/rg-hannover-besichtigung-klosterstollen/
LOCATION:Klosterstollen Barsinghausen\, Hinterkampstr. 6\, Barsinghausen\, 30890\, Deutschland
CATEGORIES:Regionalgruppe Hannover,Regionalgruppen
ORGANIZER;CN="Regionalgruppe Hannover":MAILTO:hannover@bsb-office.de
END:VEVENT
BEGIN:VEVENT
DTSTART;TZID=UTC:20210915T190000
DTEND;TZID=UTC:20210915T200000
DTSTAMP:20260419T163206
CREATED:20210303T065611Z
LAST-MODIFIED:20210630T095231Z
UID:10910-1631732400-1631736000@bsboffice.de
SUMMARY:RG Rhein-Neckar: Stiftungswesen
DESCRIPTION:Referentin: Katrin Tönshoff \nFrau Tönshoff hat von 2000 bis 2006 die bSb-Regionalgruppe Darmstadt geleitet. Sie ist seit 24 Jahren im Stiftungswesen tätig\, hat elf Jahre die Stiftung von SAP-Mitgründer Dietmar Hopp in St. Leon-Rot geleitet. Seit 1. Mai 2020 ist Frau Tönshoff Geschäftsführerin der St. Dominikus Stiftung Speyer. \nBei inzwischen über 22.000 Stiftungen in Deutschland haben wir es in nahezu allen Lebensbereichen in Deutschland mit Stiftungen zu tun und entsprechend hat sich das Stiftungswesen auch immer mehr zu einem attraktiven und im größer werdenden Arbeitsmarkt entwickelt.
URL:https://bsboffice.de/event/rg-rhein-neckar-stiftungswesen/
LOCATION:TC Guilini\, Erich-Reimann-Straße 1\, Ludwigshafen\, 67071\, Deutschland
CATEGORIES:Regionalgruppe Rhein-Neckar,Regionalgruppen
END:VEVENT
END:VCALENDAR