BEGIN:VCALENDAR
VERSION:2.0
PRODID:-// - ECPv6.15.19//NONSGML v1.0//EN
CALSCALE:GREGORIAN
METHOD:PUBLISH
X-ORIGINAL-URL:https://bsboffice.de
X-WR-CALDESC:Veranstaltungen für 
REFRESH-INTERVAL;VALUE=DURATION:PT1H
X-Robots-Tag:noindex
X-PUBLISHED-TTL:PT1H
BEGIN:VTIMEZONE
TZID:UTC
BEGIN:STANDARD
TZOFFSETFROM:+0000
TZOFFSETTO:+0000
TZNAME:UTC
DTSTART:20200101T000000
END:STANDARD
END:VTIMEZONE
BEGIN:VEVENT
DTSTART;TZID=UTC:20211110T180000
DTEND;TZID=UTC:20211110T200000
DTSTAMP:20260423T154021
CREATED:20210225T105251Z
LAST-MODIFIED:20210225T105251Z
UID:10862-1636567200-1636574400@bsboffice.de
SUMMARY:RG Hannover: Betriebsbesichtigung Finanzinformatik
DESCRIPTION:IT-Dienstleister der Sparkassen-Finanzgruppe
URL:https://bsboffice.de/event/rg-hannover-betriebsbesichtigung-finanzinformatik/
CATEGORIES:Regionalgruppe Hannover,Regionalgruppen
ORGANIZER;CN="Regionalgruppe Hannover":MAILTO:hannover@bsb-office.de
END:VEVENT
END:VCALENDAR