BEGIN:VCALENDAR
VERSION:2.0
PRODID:-// - ECPv6.15.19//NONSGML v1.0//EN
CALSCALE:GREGORIAN
METHOD:PUBLISH
X-ORIGINAL-URL:https://bsboffice.de
X-WR-CALDESC:Veranstaltungen für 
REFRESH-INTERVAL;VALUE=DURATION:PT1H
X-Robots-Tag:noindex
X-PUBLISHED-TTL:PT1H
BEGIN:VTIMEZONE
TZID:UTC
BEGIN:STANDARD
TZOFFSETFROM:+0000
TZOFFSETTO:+0000
TZNAME:UTC
DTSTART:20210101T000000
END:STANDARD
END:VTIMEZONE
BEGIN:VEVENT
DTSTART;TZID=UTC:20220713T190000
DTEND;TZID=UTC:20220713T203000
DTSTAMP:20260424T112935
CREATED:20220704T130110Z
LAST-MODIFIED:20220704T130539Z
UID:12004-1657738800-1657744200@bsboffice.de
SUMMARY:RG Berlin: LEGO®SERIOUS PLAY® (via ZOOM)
DESCRIPTION:Referent: Thomas Böhmer \nAnmeldung per E-Mail: berlin@bsb-office.de
URL:https://bsboffice.de/event/rg-berlin-legoserious-play-via-zoom/
CATEGORIES:Regionalgruppe Berlin,Regionalgruppen
ORGANIZER;CN="Regionalgruppe Berlin":MAILTO:berlin@bsboffice.de
END:VEVENT
END:VCALENDAR