BEGIN:VCALENDAR
VERSION:2.0
PRODID:-// - ECPv6.15.19//NONSGML v1.0//EN
CALSCALE:GREGORIAN
METHOD:PUBLISH
X-ORIGINAL-URL:https://bsboffice.de
X-WR-CALDESC:Veranstaltungen für 
REFRESH-INTERVAL;VALUE=DURATION:PT1H
X-Robots-Tag:noindex
X-PUBLISHED-TTL:PT1H
BEGIN:VTIMEZONE
TZID:UTC
BEGIN:STANDARD
TZOFFSETFROM:+0000
TZOFFSETTO:+0000
TZNAME:UTC
DTSTART:20210101T000000
END:STANDARD
END:VTIMEZONE
BEGIN:VEVENT
DTSTART;TZID=UTC:20220907T190000
DTEND;TZID=UTC:20220907T203000
DTSTAMP:20260424T155354
CREATED:20220719T061634Z
LAST-MODIFIED:20220719T062148Z
UID:12038-1662577200-1662582600@bsboffice.de
SUMMARY:RG Düsseldorf: WOL mit Karin Wächtler
DESCRIPTION:WOL-Expertin bei Vodafone \nOrt: wird noch bekantgegeben \nAnmeldung per E-Mail: dusseldorf@bsb-office.de
URL:https://bsboffice.de/event/rg-duesseldorf-wol-mit-karin-waechtler/
CATEGORIES:Regionalgruppe Düsseldorf,Regionalgruppen
END:VEVENT
END:VCALENDAR