BEGIN:VCALENDAR
VERSION:2.0
PRODID:-// - ECPv6.15.19//NONSGML v1.0//EN
CALSCALE:GREGORIAN
METHOD:PUBLISH
X-ORIGINAL-URL:https://bsboffice.de
X-WR-CALDESC:Veranstaltungen für 
REFRESH-INTERVAL;VALUE=DURATION:PT1H
X-Robots-Tag:noindex
X-PUBLISHED-TTL:PT1H
BEGIN:VTIMEZONE
TZID:UTC
BEGIN:STANDARD
TZOFFSETFROM:+0000
TZOFFSETTO:+0000
TZNAME:UTC
DTSTART:20210101T000000
END:STANDARD
END:VTIMEZONE
BEGIN:VEVENT
DTSTART;TZID=UTC:20220913T183000
DTEND;TZID=UTC:20220913T204500
DTSTAMP:20260424T155249
CREATED:20220530T143630Z
LAST-MODIFIED:20220828T185812Z
UID:11947-1663093800-1663101900@bsboffice.de
SUMMARY:RG Frankfurt: Erfolgreicher Umgang mit Konfliktsituationen im Berufsalltag
DESCRIPTION:Referent: Antonius Peeters\n\n\n\nErfolgreicher Umgang mit Konfliktsituationen im Berufsalltag\nAuseinandersetzungen mit Vorgesetzten und Kolleg:innen sind oft von Machtgefällen\, Konkurrenzkampf und Kompetenzgerangel geprägt. In Konfliktsituationen ist daher aufgrund von eingefahrenen Kommunikationsstrukturen und dem alltäglichen Handlungstrott das Ergebnis vorhersehbar und nicht zufriedenstellend. An diesem Abend wollen wir diese Endlosschleife durchbrechen: \n\nBewusstmachung\, Reflektion und Weiterentwicklung der eigenen Handlungsweise\nSkizzierung von Konfliktformen und Lösungsstrategien\n\nUnser Referent Antonius Peeters ist Pädagoge aus Leidenschaft mit Schwerpunkt auf respektvolle Kommunikation. \nKonkrete Anliegen können wir gerne vorab an ihn weiterleiten und diese dann anonymisiert am Abend in der Gruppe besprechen. \n\nAnmeldung per E-Mail: frankfurt@bsb-office.de
URL:https://bsboffice.de/event/rg-frankfurt-konfliktstrategien-fuer-den-berufsalltag-kennenlernen-und-anwenden/
LOCATION:memox.world Frankfurt\, Taunusanlage 9-10\, Frankfurt am Main\, 60329\, Deutschland
CATEGORIES:Regionalgruppe Frankfurt,Regionalgruppen
END:VEVENT
BEGIN:VEVENT
DTSTART;TZID=UTC:20220913T190000
DTEND;TZID=UTC:20220913T210000
DTSTAMP:20260424T155249
CREATED:20220428T061204Z
LAST-MODIFIED:20220428T061323Z
UID:11864-1663095600-1663102800@bsboffice.de
SUMMARY:RG Ruhrgebiet: Papierlos im Home Office und Büro (via ZOOM)
DESCRIPTION:Referentin: Petra Lumblatt \nSie möchten auf Papier verzichten? Dann sind Sie nicht allein. Viele wünschen sich einen Alltag im Büro oder Home Office ohne belastendes Papier auf dem Schreibtisch und in den Regalen. Aber wie soll das gehen? Natürlich können Sie das Papier einscannen oder gar nicht erst ausdrucken. Dann haben Sie zwar alles digital\, aber finden Sie es dann auch sicher ohne zu suchen? \nDamit der Umstieg auf das papierlose Büro gelingt\, benötigen Sie ein transparentes E-Mail Management\, eine digitale To-Do Liste und eine nachvollziehbare Struktur auf dem Laufwerk\, damit Sie selbst\, aber auch Vorgesetzte und Kolleg:innen jedes Dokument schnell und einfach wiederfinden. \nIn diesem Webinar erfahren Sie\, wie Sie Outlook zu Ihrem digitalen Schreibtisch machen und wie eine strukturierte Dateiablage auf dem Laufwerk aussehen sollte. Auf dem Weg zum papierlosen Arbeiten lernen Sie auch die Vorteile von OneNote und MS Teams kennen. \nWeitere Informationen finden Sie unter www.petra-lumblatt.de \nPetra Lumblatt ist Expertin für digitale Büroorganisation. Sie verfügt über langjährige Erfahrung in Sekretariat und Verwaltung. Seit vielen Jahren berät und begleitet sie Unternehmen auf dem Weg zur digitalen Büroorganisation und gibt ihr Wissen in praxisorientierten Seminaren und Webinaren weiter. \n  \nAnmeldungen bis spätestens 09.09.2022 an ruhrgebiet@bsb-office.de \n 
URL:https://bsboffice.de/event/rg-ruhrgebiet-papierlos-in-home-office-und-buero-via-zoom/
LOCATION:Zoom
CATEGORIES:Regionalgruppe Ruhrgebiet,Regionalgruppen
END:VEVENT
END:VCALENDAR