BEGIN:VCALENDAR
VERSION:2.0
PRODID:-// - ECPv6.15.19//NONSGML v1.0//EN
CALSCALE:GREGORIAN
METHOD:PUBLISH
X-ORIGINAL-URL:https://bsboffice.de
X-WR-CALDESC:Veranstaltungen für 
REFRESH-INTERVAL;VALUE=DURATION:PT1H
X-Robots-Tag:noindex
X-PUBLISHED-TTL:PT1H
BEGIN:VTIMEZONE
TZID:UTC
BEGIN:STANDARD
TZOFFSETFROM:+0000
TZOFFSETTO:+0000
TZNAME:UTC
DTSTART:20210101T000000
END:STANDARD
END:VTIMEZONE
BEGIN:VEVENT
DTSTART;TZID=UTC:20220914T190000
DTEND;TZID=UTC:20220914T203000
DTSTAMP:20260424T155424
CREATED:20220530T115813Z
LAST-MODIFIED:20220829T083504Z
UID:11926-1663182000-1663187400@bsboffice.de
SUMMARY:RG Rhein-Neckar: Agiles Projektmanagement (via ZOOM)
DESCRIPTION:Worum geht es? \nNew Work und alle damit verbundenen Änderungen der Arbeitswelt fordern neue Tätigkeiten und Fähigkeiten in der Arbeitswelt\, von allen Berufstätigen. Im Assistenzbereich gehören neben den digitalen Fähigkeiten zunehmend auch Projektmanagementfähigkeiten dazu. Die Grundlagen des klassischen und agilen Projektmanagements zu beherrschen ist eine wichtige Voraussetzung\, um sich gewinnbringend in Teams einbringen zu können. Die Beherrschung der unterstützenden digitalen Tools sind in modernen global und international agierenden Unternehmen ein großer Pluspunkt. \nSie erfahren die Basics und Besonderheiten des agilen Projektmanagements und wie diese Methoden Sie in Ihrem Organisationsalltag unterstützen können.\nSie lernen unterstützende Tools wie Trello\, Meistertask oder Zenkit kennen und bekommen eine Idee\, wie Sie Ihre Projekte digital darstellen und Ihr Umfeld begeistern können. \nReferentin: Andrea Kaden \nAndrea Kaden ist Effizienz- und Digitalisierungs-Expertin und schon seit 2009 als Ms. Paperless nicht nur bundesweit\, sondern auch international (Kanada und USA) tätig. Mit Lean-Methoden\, fundierten digitalen Kenntnissen und der Fähigkeit sowohl IT-Experten und Digital-Non-Natives zu verstehen\, gelingt es ihr\, ihre Kunden von neuen Arbeitsmethoden\, effizienteren Prozessen\, digitalen Tools und mehr Nachhaltigkeit im Arbeitsalltag zu begeistern. Obwohl als „woman on a mission“ in Sachen Prozessoptimierung\, Digitalisierung und Nachhaltigkeit unterwegs\, steht für Andrea Kaden der Mensch im Mittelpunkt aller Veränderungen. Als TÜV-zertifizierte Datenschutzexpertin ist sie davon überzeugt\, dass höchst digitale Arbeitsmethoden und die Einhaltung von Datenschutzvorschriften sich keineswegs ausschießen\, sondern bedingen. \nAnmeldung per E-Mail: rhein-neckar@bsb-office.de
URL:https://bsboffice.de/event/rg-rhein-neckar-einfuehrung-in-das-projektmanagement-via-zoom/
LOCATION:Zoom
CATEGORIES:Regionalgruppe Rhein-Neckar,Regionalgruppen
END:VEVENT
END:VCALENDAR