BEGIN:VCALENDAR
VERSION:2.0
PRODID:-// - ECPv6.15.19//NONSGML v1.0//EN
CALSCALE:GREGORIAN
METHOD:PUBLISH
X-ORIGINAL-URL:https://bsboffice.de
X-WR-CALDESC:Veranstaltungen für 
REFRESH-INTERVAL;VALUE=DURATION:PT1H
X-Robots-Tag:noindex
X-PUBLISHED-TTL:PT1H
BEGIN:VTIMEZONE
TZID:UTC
BEGIN:STANDARD
TZOFFSETFROM:+0000
TZOFFSETTO:+0000
TZNAME:UTC
DTSTART:20210101T000000
END:STANDARD
END:VTIMEZONE
BEGIN:VEVENT
DTSTART;TZID=UTC:20221019T190000
DTEND;TZID=UTC:20221019T203000
DTSTAMP:20260424T173854
CREATED:20220923T152218Z
LAST-MODIFIED:20221003T194641Z
UID:12130-1666206000-1666211400@bsboffice.de
SUMMARY:RG Frankfurt: Lebenslanges Lernen - Wesen wollen wachsen (via Zoom)
DESCRIPTION:Referentin: Elke Brüsch\n\n\n\nLebenslanges Lernen – Wesen wollen wachsen (online via Zoom)\nWir lernen lebenslang\, ob wir wollen oder nicht – unsere Natur ist Veränderung\, wir sind in stetem Wandel\, unser Wesen will wachsen. Wie kann ich dabei mein Lernen aktiv gestalten? Was kann mir helfen\, leichter zu lernen\, mehr zu lernen\, Neues in mein Leben zu lassen? Was macht mir dabei Angst\, was erzeugt Widerstand?\n\nWir untersuchen gemeinsam und im interaktiven Austausch\n\nwas wir „Lernen“ nennen\nwas unser Bewertungssystem damit zu tun hat\nwelcher Lerntyp wir sind\nwie wir mehr Neues in unser Leben lassen können\nwas uns helfen kann\, leichter zu lernen\n\n\nAnmeldung per E-Mail: frankfurt@bsb-office.de
URL:https://bsboffice.de/event/rg-frankfurt-lebenslanges-lernen-via-zoom/
LOCATION:Zoom
CATEGORIES:Regionalgruppe Frankfurt,Regionalgruppen
END:VEVENT
END:VCALENDAR