BEGIN:VCALENDAR
VERSION:2.0
PRODID:-// - ECPv6.15.19//NONSGML v1.0//EN
CALSCALE:GREGORIAN
METHOD:PUBLISH
X-ORIGINAL-URL:https://bsboffice.de
X-WR-CALDESC:Veranstaltungen für 
REFRESH-INTERVAL;VALUE=DURATION:PT1H
X-Robots-Tag:noindex
X-PUBLISHED-TTL:PT1H
BEGIN:VTIMEZONE
TZID:UTC
BEGIN:STANDARD
TZOFFSETFROM:+0000
TZOFFSETTO:+0000
TZNAME:UTC
DTSTART:20210101T000000
END:STANDARD
END:VTIMEZONE
BEGIN:VEVENT
DTSTART;TZID=UTC:20221027T190000
DTEND;TZID=UTC:20221027T210000
DTSTAMP:20260424T173900
CREATED:20220825T125656Z
LAST-MODIFIED:20221012T080221Z
UID:12093-1666897200-1666904400@bsboffice.de
SUMMARY:RG Köln: OneNote - Tipps & Tricks (via ZOOM)
DESCRIPTION:Referentin: Claudia von Wilmsdorff \nSie arbeiten bereits mit OneNote und möchten mehr Funktionen des Programms entdecken? Im online Workshop geht es z. B. darum\, wie sich OneNote an Ihre Bedürfnisse anpassen lässt und Sie Lieblingsbefehle immer parat haben. Oder welche zusätzlichen Ordnungstools es gibt\, um effizienter zu arbeiten. Erkunden Sie Werkzeuge\, die sich nicht immer auf den ersten Blick offenbaren und lernen Sie Praxistricks und Tastenkürzel rund ums digitale Notizbuch kennen. \nInhalt \n– Die Oberfläche individuell anpassen\n– OneNote-Hierarchie: Mehr nutzen als nur Abschnitt oder Seite\n– Inhalte exportieren/sichern \nAnmeldung per E-Mail: koeln@bsb-office.de
URL:https://bsboffice.de/event/rg-koeln-onenote-tipps-tricks-via-zoom/
LOCATION:Zoom
CATEGORIES:Regionalgruppe Köln,Regionalgruppen
END:VEVENT
END:VCALENDAR