BEGIN:VCALENDAR
VERSION:2.0
PRODID:-// - ECPv6.15.19//NONSGML v1.0//EN
CALSCALE:GREGORIAN
METHOD:PUBLISH
X-ORIGINAL-URL:https://bsboffice.de
X-WR-CALDESC:Veranstaltungen für 
REFRESH-INTERVAL;VALUE=DURATION:PT1H
X-Robots-Tag:noindex
X-PUBLISHED-TTL:PT1H
BEGIN:VTIMEZONE
TZID:UTC
BEGIN:STANDARD
TZOFFSETFROM:+0000
TZOFFSETTO:+0000
TZNAME:UTC
DTSTART:20220101T000000
END:STANDARD
END:VTIMEZONE
BEGIN:VEVENT
DTSTART;TZID=UTC:20230328T190000
DTEND;TZID=UTC:20230328T203000
DTSTAMP:20260424T151323
CREATED:20230316T142415Z
LAST-MODIFIED:20230317T093054Z
UID:12423-1680030000-1680035400@bsboffice.de
SUMMARY:Premium Online-Abend: ChatGPT – Fluch oder Segen?
DESCRIPTION:Referentin: Angela D. Kosa \nChatGPT ist derzeit in aller Munde und allen Medien und wurde bestimmt schon von einigen ausprobiert – vielleicht bestehen aber auch Bedenken.\n\nDieser Impulsvortrag von Angela D. Kosa\, wird uns die Angst vor ChatGPT nehmen und die Lust am täglichen Arbeiten mit künstlicher “Intelligenz” wecken.\n\nFrau Kosa nimmt uns mit auf eine Entdeckungsreise\, die mit einem Blick unter die “Motorhaube” von ChatGPT beginnt und bestimmt viele tolle Möglichkeiten aufzeigen wird\, wie wir ChatGPT für uns nutzen können. ChatGPT ist eine beeindruckende Technologie und wenn wir sie gekonnt einsetzen\, können wir mit Sicherheit unsere Chef und Kolleginnen und Kollegen davon überzeugen.\n\n\nAnmeldung per E-Mail: onlineteam-finanzen@bsb-office.de \nAnmeldeschluss: 24.03.2023 \nKosten: für bSb-Mitglieder mit dem Premium-Paket kostenlos\, bSb-Mitglieder ohne Premium-Paket EUR 15\,00\, IMA-Mitglieder EUR 20\,00\, Gäste EUR 25\,00.
URL:https://bsboffice.de/event/premium-online-abend-chatgpt-fluch-oder-segen/
LOCATION:Zoom
ORGANIZER;CN="bSb Bundesverband Sekretariat und B%C3%BCromanagement e. V.":MAILTO:info@bsboffice.de
END:VEVENT
END:VCALENDAR