BEGIN:VCALENDAR
VERSION:2.0
PRODID:-// - ECPv6.15.19//NONSGML v1.0//EN
CALSCALE:GREGORIAN
METHOD:PUBLISH
X-ORIGINAL-URL:https://bsboffice.de
X-WR-CALDESC:Veranstaltungen für 
REFRESH-INTERVAL;VALUE=DURATION:PT1H
X-Robots-Tag:noindex
X-PUBLISHED-TTL:PT1H
BEGIN:VTIMEZONE
TZID:UTC
BEGIN:STANDARD
TZOFFSETFROM:+0000
TZOFFSETTO:+0000
TZNAME:UTC
DTSTART:20220101T000000
END:STANDARD
END:VTIMEZONE
BEGIN:VEVENT
DTSTART;TZID=UTC:20230419T180000
DTEND;TZID=UTC:20230419T190000
DTSTAMP:20260424T150041
CREATED:20230417T185521Z
LAST-MODIFIED:20230424T054801Z
UID:12510-1681927200-1681930800@bsboffice.de
SUMMARY:Netzwerk Hannover: Vorstellung des Buchungstools eHotels (via ZOOM)
DESCRIPTION:Referent: Ingo Ackermann \nKosten: für Mitglieder des Netzwerks Hannover kostenlos\, Gäste zahlen 5 Euro. \nAnmeldung per E-Mail: hannover@bsb-office.de
URL:https://bsboffice.de/event/netzwerk-hannover-vorstellung-des-buchungstools-ehotels-via-zoom/
LOCATION:Zoom
CATEGORIES:Regionalgruppe Hannover,Regionalgruppen
ORGANIZER;CN="Regionalgruppe Hannover":MAILTO:hannover@bsb-office.de
END:VEVENT
END:VCALENDAR