BEGIN:VCALENDAR
VERSION:2.0
PRODID:-// - ECPv6.15.19//NONSGML v1.0//EN
CALSCALE:GREGORIAN
METHOD:PUBLISH
X-ORIGINAL-URL:https://bsboffice.de
X-WR-CALDESC:Veranstaltungen für 
REFRESH-INTERVAL;VALUE=DURATION:PT1H
X-Robots-Tag:noindex
X-PUBLISHED-TTL:PT1H
BEGIN:VTIMEZONE
TZID:UTC
BEGIN:STANDARD
TZOFFSETFROM:+0000
TZOFFSETTO:+0000
TZNAME:UTC
DTSTART:20240101T000000
END:STANDARD
END:VTIMEZONE
BEGIN:VEVENT
DTSTART;TZID=UTC:20250510T110000
DTEND;TZID=UTC:20250510T110000
DTSTAMP:20260424T174112
CREATED:20250404T060422Z
LAST-MODIFIED:20250404T060422Z
UID:13195-1746874800-1746874800@bsboffice.de
SUMMARY:Netzwerk Rhein-Neckar: Erlebnistag der BASF
DESCRIPTION:Kombi-Tour (Werkrundfahrt & Weinkeller) \nTreffpunkt: 10:30 Uhr\, Besucherzentrum BASF \nDauer ca. 50 Minuten\, anschließend Weinkellerei-Führung\n\nDer Werkrundfahrtsbus wird die Gäste am Weinkeller aussteigen lassen und zurück zum Besuchszentrum fahren. Der Rückweg zum Besuchszentrum beträgt fußläufig 5 Minuten.\n\nEintritt: kostenfrei\nDauer insgesamt ca. 2 Stunden\n\nAnmeldungen bitte bis zum 25. April an <rhein-neckar@bsb-office.de> \n  \n 
URL:https://bsboffice.de/event/netzwerk-rhein-neckar-erlebnistag-der-basf/
LOCATION:BASF\, Carl-Bosch-Str. 38\, Ludwigshafen\, 67063\, Germany
CATEGORIES:Regionalgruppe Rhein-Neckar,Regionalgruppen
END:VEVENT
END:VCALENDAR