BEGIN:VCALENDAR
VERSION:2.0
PRODID:-// - ECPv6.15.19//NONSGML v1.0//EN
CALSCALE:GREGORIAN
METHOD:PUBLISH
X-ORIGINAL-URL:https://bsboffice.de
X-WR-CALDESC:Veranstaltungen für 
REFRESH-INTERVAL;VALUE=DURATION:PT1H
X-Robots-Tag:noindex
X-PUBLISHED-TTL:PT1H
BEGIN:VTIMEZONE
TZID:UTC
BEGIN:STANDARD
TZOFFSETFROM:+0000
TZOFFSETTO:+0000
TZNAME:UTC
DTSTART:20240101T000000
END:STANDARD
END:VTIMEZONE
BEGIN:VEVENT
DTSTART;TZID=UTC:20250513T190000
DTEND;TZID=UTC:20250513T203000
DTSTAMP:20260424T173902
CREATED:20241220T133142Z
LAST-MODIFIED:20250406T202905Z
UID:13107-1747162800-1747168200@bsboffice.de
SUMMARY:Premium Online-Abend: Stärken stärken
DESCRIPTION:Referentin: Diana Brandl \nWelche Stärken habe ich? Welche persönlichen Stärken helfen mir im Business? Wie kann ich diese nutzen? Wie gehe ich zielführend mit meinen Schwächen um?  \nWer das weiß\, der kann seine Stärken und erfolgreiche Verhaltensweisen bewusst nutzen und entsprechend ausbauen.  \nInvestieren Sie in Ihre Persönlichkeitsentwicklung\, entdecken Sie bekannte und neue Stärken und lernen Sie\, diese erfolgreich einzusetzen. Denn nur Schwächen zu schwächen\, macht noch lange nicht stark! \nInhalte: \n\nPersönliche Stärken erkennen und nutzen\nAnsätze der Positiven Psychologie\nStärken stärken statt Schwächen schwächen\nSelbstoptimierung: Stärken nutzen und weiter ausbauen\nDeine Erfolgs-Roadmap: Konkreter Fahrplan zur optimalen Umsetzung\n\nAnmeldung per E-Mail: onlineteam-finanzen@bsb-office.de \nAnmeldeschluss: 09.05.2025 \nTeilnahmegebühr: für bSb-Mitglieder mit dem Premium-Paket kostenlos\, bSb-Mitglieder ohne Premium-Paket EUR 15\,00\, IMA-Mitglieder EUR 20\,00\, Gäste EUR 25\,00.
URL:https://bsboffice.de/event/premium-online-abend-staerken-staerken/
LOCATION:Zoom
CATEGORIES:bSb-Termine Bundesverband
END:VEVENT
END:VCALENDAR