BEGIN:VCALENDAR
VERSION:2.0
PRODID:-// - ECPv6.15.19//NONSGML v1.0//EN
CALSCALE:GREGORIAN
METHOD:PUBLISH
X-ORIGINAL-URL:https://bsboffice.de
X-WR-CALDESC:Veranstaltungen für 
REFRESH-INTERVAL;VALUE=DURATION:PT1H
X-Robots-Tag:noindex
X-PUBLISHED-TTL:PT1H
BEGIN:VTIMEZONE
TZID:UTC
BEGIN:STANDARD
TZOFFSETFROM:+0000
TZOFFSETTO:+0000
TZNAME:UTC
DTSTART:20240101T000000
END:STANDARD
END:VTIMEZONE
BEGIN:VEVENT
DTSTART;TZID=UTC:20250731T173000
DTEND;TZID=UTC:20250731T173000
DTSTAMP:20260422T111954
CREATED:20250520T052926Z
LAST-MODIFIED:20250520T053039Z
UID:13244-1753983000-1753983000@bsboffice.de
SUMMARY:Netzwerk Rhein-Main: After-Work | The Blasky Hotel & Rooftop
DESCRIPTION:Wir laden zum nächsten After-Work-Treffen ins The Blasky Hotel & Rooftop ein. Freut euch auf einen schönen Abend mit kühlen Drinks\, Snacks und großartigen Menschen. Entdeckt gemeinsam mit uns das Hotel und viele Möglichkeiten für spannende Events. \nAnmeldung:\nWer Interesse hat\, meldet sich bitte mit dem Forms Link an. Im Anschluss erhaltet ihr eine Outlook-Einladung mit weiteren Details.\nAnmeldeschluss: Montag\, 21.07.2025.\n\nMeldet euch zügig an\, die Plätze sind limitiert. Nach erreichen der Teilnehmerzahl gibt es eine Warteliste. Wir freuen uns auf einen schönen Abend mit euch.
URL:https://bsboffice.de/event/netzwerk-rhein-main-after-work-the-blasky-hotel-rooftop/
LOCATION:The Blasky Hotel & Rooftop\, Ziegelhüttenweg 43\, Frankfurt am Main\, 60598
CATEGORIES:Regionalgruppe Frankfurt
END:VEVENT
END:VCALENDAR