BEGIN:VCALENDAR
VERSION:2.0
PRODID:-// - ECPv6.15.19//NONSGML v1.0//EN
CALSCALE:GREGORIAN
METHOD:PUBLISH
X-ORIGINAL-URL:https://bsboffice.de
X-WR-CALDESC:Veranstaltungen für 
REFRESH-INTERVAL;VALUE=DURATION:PT1H
X-Robots-Tag:noindex
X-PUBLISHED-TTL:PT1H
BEGIN:VTIMEZONE
TZID:UTC
BEGIN:STANDARD
TZOFFSETFROM:+0000
TZOFFSETTO:+0000
TZNAME:UTC
DTSTART:20250101T000000
END:STANDARD
END:VTIMEZONE
BEGIN:VEVENT
DTSTART;TZID=UTC:20260428T190000
DTEND;TZID=UTC:20260428T203000
DTSTAMP:20260423T153904
CREATED:20251120T094743Z
LAST-MODIFIED:20260311T182415Z
UID:13346-1777402800-1777408200@bsboffice.de
SUMMARY:Premium Online Abend: Der Lotusblüten-Effekt – Souverän bleiben im anspruchsvollen Assistenzalltag
DESCRIPTION:Referentin: Alexandra Gebhardt \nIm Assistenzalltag laufen viele Fäden zusammen. Erwartungen\, Abstimmungen und spontane Aufgaben treffen häufig gleichzeitig auf Sie ein. Dabei sind Sie oft erste Anlaufstelle\, Mitdenkerin\, Möglichmacherin und Ruhepol zugleich. \nDas kann erfüllend sein und zugleich fordernd. Wie gelingt es\, in diesem Spannungsfeld ruhig zu bleiben\, sich emotional zu schützen und dennoch präsent und handlungsfähig zu bleiben? \nAn diesem Online-Abend lernen Sie den „Lotusblüten-Effekt“ als Denk- und Reflexionsansatz kennen. \nDie Lotusblüte steht sinnbildlich dafür\, auch in bewegten Umfeldern stabil und klar zu bleiben: Sie lässt äußere Einflüsse an sich abperlen\, ohne ihre Haltung zu verlieren. \nGemeinsam schauen wir auf typische Momente aus dem Assistenzalltag\, in denen viel gleichzeitig geschieht und reflektieren\, wie Sie auch unter Druck bei sich bleiben\, bewusst reagieren und für sich stimmige Wege finden können. \nFreuen Sie sich auf ausgewählte Impulse und Raum für Austausch. \nAnmeldung per E-Mail erforderlich: onlineteam-finanzen@bsb-office.de \nAnmeldeschluss: 24.04.2026 \nTeilnahmegebühr: für bSb-Mitglieder mit dem Premium-Paket kostenlos\, bSb-Mitglieder ohne Premium-Paket EUR 15\,00\, IMA-Mitglieder EUR 20\,00\, Gäste EUR 25\,00.
URL:https://bsboffice.de/event/premium-online-abend-der-lotusblueteneffekt-selbstfuersorge/
LOCATION:Zoom
CATEGORIES:bSb-Termine Bundesverband
END:VEVENT
BEGIN:VEVENT
DTSTART;TZID=UTC:20260519T190000
DTEND;TZID=UTC:20260519T203000
DTSTAMP:20260423T153904
CREATED:20251120T094925Z
LAST-MODIFIED:20260413T175723Z
UID:13348-1779217200-1779222600@bsboffice.de
SUMMARY:Premium Online Abend: Immer up-to-date – was gibt es Neues (KI) fürs Office?
DESCRIPTION:Referentin: Enisa Romanic \nKI im Office entwickelt sich rasant – bleiben Sie auf dem neuesten Stand. Enisa Romanic zeigt Ihnen in diesem kompakten Webinar\, wie Sie aktuelle KI-Anwendungen effizient nutzen und direkt in Ihren Arbeitsalltag integrieren. Praxisnah\, verständlich und sofort umsetzbar. \nJetzt anmelden unter onlineteam-finanzen@bsb-office.de und Wissensvorsprung sichern! \nAnmeldeschluss: 15.05.2026 \nTeilnahmegebühr: für bSb-Mitglieder mit dem Premium-Paket kostenlos\, bSb-Mitglieder ohne Premium-Paket EUR 15\,00\, IMA-Mitglieder EUR 20\,00\, Gäste EUR 25\,00.
URL:https://bsboffice.de/event/premium-online-abend-immer-up-to-date-was-gibt-es-neues-ki-fuers-office/
LOCATION:Zoom
CATEGORIES:bSb-Termine Bundesverband
END:VEVENT
BEGIN:VEVENT
DTSTART;TZID=UTC:20260523T090000
DTEND;TZID=UTC:20260523T130000
DTSTAMP:20260423T153904
CREATED:20260420T181452Z
LAST-MODIFIED:20260420T181748Z
UID:13517-1779526800-1779541200@bsboffice.de
SUMMARY:Netzwerk Rhein-Main: Netzwerkfrühstück
DESCRIPTION:09.00 Uhr      Check-In und Frühstück\, Me and All Hotel\, Mainz\n11.00 Uhr      Begrüßung. bSb Netzwerkgruppe Frankfurt\,\n                      Begrüßung Me and All Hotel Mainz\, Frau Bode\n                      Hotelführung\nanschließend Netzwerken.\n\nDas Me an All Hotel Mainz befindet sich in bester Innenstadtlage. Wenn nicht sogar der besten Lage: nur 3 Minuten vom Mainzer Hauptbahnhof und ca. 5 Minuten von der Altstadt entfernt. Das reichhaltige Frühstücksbuffet bietet für jeden Geschmack etwas.  Charmantes Hotel in der Mainzer Altstadt | Me and All Hotel Mainz \n\nEs gibt ein Parkhaus mit einer begrenzten Anzahl von Stellplätzen direkt unter dem Hotel. Mit dem Aufzug ins Hotel fahren. (Kostenfrei)\nSollten die Parkplätze des Hotels belegt sein\, ist auf der gegenüberliegenden Straßenseite das Parkhaus Taubertsberg\, Binger Strasse (kostenpflichtig).\n\nWir empfehlen die Anreise mit öffentlichen Verkehrsmittel: zum Hauptbahnhof Mainz. Das Hotel ist nur 500 Meter entfernt \n\nDie verbindliche Anmeldung erfolgt formlos per E-Mail an frankfurt@bsb-office.de \n\nAnmeldeschluß: 14. Mai 2026\n\nKostenbeitrag pro Person: 10\,00 EUR \n\nDie Bankverbindung erhaltet Ihr bei Anmeldung. Den Betrag bitte vorab überweisen.\nBitte beachtet\, dass dieser Betrag nicht erstattet werden kann.
URL:https://bsboffice.de/event/netzwerk-rhein-main-netzwerkfruehstueck/
LOCATION:Me and All Hotel Mainz\, Binger Str. 23\, Mainz\, 55131
CATEGORIES:Regionalgruppe Frankfurt,Regionalgruppen
END:VEVENT
BEGIN:VEVENT
DTSTART;TZID=UTC:20260810T190000
DTEND;TZID=UTC:20260810T203000
DTSTAMP:20260423T153904
CREATED:20251120T095109Z
LAST-MODIFIED:20251120T095109Z
UID:13350-1786388400-1786393800@bsboffice.de
SUMMARY:Premium Online Abend: Feel-Good Management für die Assistenz
DESCRIPTION:Referentin: Sabrina ten Brink
URL:https://bsboffice.de/event/premium-online-abend-feel-good-management-fuer-die-assistenz/
LOCATION:Zoom
CATEGORIES:bSb-Termine Bundesverband
END:VEVENT
BEGIN:VEVENT
DTSTART;TZID=UTC:20261109T190000
DTEND;TZID=UTC:20261109T203000
DTSTAMP:20260423T153904
CREATED:20251120T095338Z
LAST-MODIFIED:20251120T095338Z
UID:13352-1794250800-1794256200@bsboffice.de
SUMMARY:Premium Online Abend: Effektives Stress-Management  mehr Balance in Beruf und Alltag
DESCRIPTION:Referentin: Katja Widmann
URL:https://bsboffice.de/event/premium-online-abend-effektives-stress-management-mehr-balance-in-beruf-und-alltag/
LOCATION:Zoom
CATEGORIES:bSb-Termine Bundesverband
END:VEVENT
END:VCALENDAR