BEGIN:VCALENDAR
VERSION:2.0
PRODID:-// - ECPv6.15.19//NONSGML v1.0//EN
CALSCALE:GREGORIAN
METHOD:PUBLISH
X-ORIGINAL-URL:https://bsboffice.de
X-WR-CALDESC:Veranstaltungen für 
REFRESH-INTERVAL;VALUE=DURATION:PT1H
X-Robots-Tag:noindex
X-PUBLISHED-TTL:PT1H
BEGIN:VTIMEZONE
TZID:UTC
BEGIN:STANDARD
TZOFFSETFROM:+0000
TZOFFSETTO:+0000
TZNAME:UTC
DTSTART:20160101T000000
END:STANDARD
END:VTIMEZONE
BEGIN:VEVENT
DTSTART;TZID=UTC:20171201T160000
DTEND;TZID=UTC:20171201T190000
DTSTAMP:20260423T185240
CREATED:20170825T125004Z
LAST-MODIFIED:20170825T125004Z
UID:6587-1512144000-1512154800@bsboffice.de
SUMMARY:RG Dresden: Jahresabschluss
DESCRIPTION:Die Schmiede Perschnick bietet einen Erlebnisnachmittag am Schmiedefeuer mit Amboss und Werkzeug an. Wir haben die Möglichkeit\, selbst zu schmieden und einen selbst gefertigten Gegenstand mit nach Hause nehmen.\nTagungsort:     Perschnik Metallbau\,  Schuchstraße 6\,  01445 Radebeul\nAnmeldung:     dresden@bsboffice.de
URL:https://bsboffice.de/event/rg-dresden-jahresabschluss/
LOCATION:Perschnik Metallbau\, Schuchstraße 6\, Radebeul\, 01445\, Deutschland
CATEGORIES:Regionalgruppe Dresden,Regionalgruppen
END:VEVENT
BEGIN:VEVENT
DTSTART;TZID=UTC:20171201T180000
DTEND;TZID=UTC:20171201T220000
DTSTAMP:20260423T185240
CREATED:20170816T183442Z
LAST-MODIFIED:20170816T183442Z
UID:6525-1512151200-1512165600@bsboffice.de
SUMMARY:RG Bremen: Weihnachtsfeier
DESCRIPTION:Weihnachtsfeier\nDieses Jahr feiern wir unsere Weihnachtsfeier in einem besonders schönen Ambiente im Dorint Parkhotel Bremen.\nWir treffen uns zu einem Sektempfang\, werden anschließend ein Drei-Gänge-Menü zu uns nehmen und einen schönen Abend mit noch einigen Überraschungen erleben.
URL:https://bsboffice.de/event/rg-bremen-weihnachtsfeier/
LOCATION:Dorint Park Hotel Bremen\, Bürgerpark\, Bremen\, 28209\, Deutschland
ORGANIZER;CN="Regionalgruppe Bremen":MAILTO:bremen@bsb-office.de
END:VEVENT
BEGIN:VEVENT
DTSTART;TZID=UTC:20171202T100000
DTEND;TZID=UTC:20171202T140000
DTSTAMP:20260423T185240
CREATED:20170526T112206Z
LAST-MODIFIED:20170526T112206Z
UID:6085-1512208800-1512223200@bsboffice.de
SUMMARY:RG Köln: Jahresabschluss mit Weihnachts-Frühstück
DESCRIPTION:
URL:https://bsboffice.de/event/rg-koeln-jahresabschluss-mit-weihnachts-fruehstueck/
LOCATION:MARITIM Hotel Köln\, Heumarkt 20\, Köln\, 50667\, Deutschland
CATEGORIES:Regionalgruppe Köln,Regionalgruppen
END:VEVENT
BEGIN:VEVENT
DTSTART;TZID=UTC:20171202T180000
DTEND;TZID=UTC:20171202T220000
DTSTAMP:20260423T185240
CREATED:20170306T155229Z
LAST-MODIFIED:20170413T170828Z
UID:5565-1512237600-1512252000@bsboffice.de
SUMMARY:RG Saarbrücken: Weihnachtsfeier
DESCRIPTION:Weihnachtsfeier \nVilla Almarin\, Ensheimer Straße 20\, 66386 St. Ingbert \n– Details folgen –
URL:https://bsboffice.de/event/saarbruecken-weihnachtsfeier/
CATEGORIES:Regionalgruppe Saar
END:VEVENT
BEGIN:VEVENT
DTSTART;TZID=UTC:20171204T193000
DTEND;TZID=UTC:20171204T213000
DTSTAMP:20260423T185240
CREATED:20171012T085355Z
LAST-MODIFIED:20171012T085511Z
UID:6767-1512415800-1512423000@bsboffice.de
SUMMARY:RG Franken: Jahresversammlung 2017/2018
DESCRIPTION:Die Jahresversammlung findet ausschließlich für die Mitglieder der Regionalgruppe Franken statt. Die Tagesordnung wurde bereits an alle Mitglieder versandt. \n  \nAnmeldung: HauckAnne@aol.com
URL:https://bsboffice.de/event/franken-jahresversammlung-20172018/
LOCATION:Hotel Mercure Schweinfurt Maininsel\, Maininsel 10 - 12\, Schweinfurt\, 97424\, Deutschland
CATEGORIES:Regionalgruppe Franken
ORGANIZER;CN="Regionalgruppe Franken":MAILTO:HauckAnne@aol.com
END:VEVENT
BEGIN:VEVENT
DTSTART;TZID=UTC:20171205T183000
DTEND;TZID=UTC:20171205T210000
DTSTAMP:20260423T185240
CREATED:20170414T151351Z
LAST-MODIFIED:20171202T160455Z
UID:5836-1512498600-1512507600@bsboffice.de
SUMMARY:RG Gifhorn-Wolfsburg-Braunschweig: Wie Sie aus Machtkämpfen aussteigen
DESCRIPTION:5. Dezember 2017\, 18:30 Uhr\n„Wie Sie aus Machtkämpfen aussteigen“\n\nReferentin: Petra Schüler\nVeranstaltungsort: Hotel Deutsches Haus\, Gifhorn\n\nGastbeitrag 10 €\, bSb-Mitglieder frei\nAnmeldungen bitte an carmen.oldenburger@web.de
URL:https://bsboffice.de/event/rg-gifhorn-wolfsburg-braunschweig-wie-sie-aus-machtkaempfen-aussteigen/
LOCATION:Hotel Deutsches Haus\, Torstraße 11\, Gifhorn\, 38515
CATEGORIES:Regionalgruppe Gifhorn
ORGANIZER;CN="bsb Regionalgruppe Gifhorn-Wolfsburg-Braunschweig":MAILTO:braunschweig@bsb-office.de
END:VEVENT
BEGIN:VEVENT
DTSTART;TZID=UTC:20171206T180000
DTEND;TZID=UTC:20171206T210000
DTSTAMP:20260423T185240
CREATED:20170711T142736Z
LAST-MODIFIED:20170714T071716Z
UID:6269-1512583200-1512594000@bsboffice.de
SUMMARY:RG Hannover: Weihnachtsfeier
DESCRIPTION:Lassen Sie sich überraschen! \nEinzelheiten zum Programm sowie Kosten folgen. \nAnmeldung: hannover@bsb-office.de
URL:https://bsboffice.de/event/rg-hannover-weihnachtsfeier/
LOCATION:Marlene Bar & Bühne\, Prinzenstraße 10\, Hannover\, 30159 \, Deutschland
CATEGORIES:Regionalgruppe Hannover,Regionalgruppen
ORGANIZER;CN="Regionalgruppe Hannover":MAILTO:hannover@bsb-office.de
END:VEVENT
BEGIN:VEVENT
DTSTART;TZID=UTC:20171207T183000
DTEND;TZID=UTC:20171207T220000
DTSTAMP:20260423T185240
CREATED:20170609T150607Z
LAST-MODIFIED:20170609T150607Z
UID:6153-1512671400-1512684000@bsboffice.de
SUMMARY:RG Hamburg: Weihnachtliches Get Together
DESCRIPTION:Weihnachtliches Get Together am 7. Dezember 2017: \nweitere Informationen folgen
URL:https://bsboffice.de/event/rg-hamburg-weihnachtliches-get-together/
CATEGORIES:Regionalgruppe Hamburg
END:VEVENT
BEGIN:VEVENT
DTSTART;TZID=UTC:20171212T180000
DTEND;TZID=UTC:20171212T213000
DTSTAMP:20260423T185240
CREATED:20170301T171114Z
LAST-MODIFIED:20170301T171114Z
UID:5482-1513101600-1513114200@bsboffice.de
SUMMARY:RG Stuttgart: First Aid for Business - Wie Sie zur Heldin Ihres Chefs werden
DESCRIPTION:Referentin: Claudia Aschmann
URL:https://bsboffice.de/event/rg-stuttgart-first-aid-for-business-wie-sie-zur-heldin-ihres-chefs-werden/
LOCATION:MARITIM Hotel Stuttgart\, Seidenstraße 34\, Stuttgart\, 70174\, Deutschland
CATEGORIES:Regionalgruppe Stuttgart
END:VEVENT
BEGIN:VEVENT
DTSTART;TZID=UTC:20171213T190000
DTEND;TZID=UTC:20171213T210000
DTSTAMP:20260423T185240
CREATED:20170711T141627Z
LAST-MODIFIED:20170711T141627Z
UID:6257-1513191600-1513198800@bsboffice.de
SUMMARY:RG Rhein-Neckar: Weihnachtsessen
DESCRIPTION:Weihnachtsessen \nKosten: Selbstzahler \nAnmeldung: rhein-neckar@bsb-office.de
URL:https://bsboffice.de/event/rg-rhein-neckar-weihnachtsessen/
LOCATION:Müller Restaurant & Café Lounge\, (auf dem Museumsschiff)\, Mannheim\, Deutschland
CATEGORIES:Regionalgruppe Rhein-Neckar,Regionalgruppen
END:VEVENT
BEGIN:VEVENT
DTSTART;TZID=UTC:20171216T110000
DTEND;TZID=UTC:20171216T170000
DTSTAMP:20260423T185240
CREATED:20171101T185956Z
LAST-MODIFIED:20171101T185956Z
UID:6811-1513422000-1513443600@bsboffice.de
SUMMARY:RG Franken: bSb-Netzwerktreffen
DESCRIPTION:90 Jahre Lebkuchen Schmidt und 10 Jahre bSb-Partnerschaft \nFeiern Sie mit uns diese beiden Jubiläen\, genießen Sie die Gastfreundschaft unseres Partners Lebkuchen Schmidt und kommen Sie nach Nürnberg – sicher werden Sie begeistert sein! \nEin Besuch in Nürnberg – und ganz besonders zur Weihnachtszeit – ist immer ein Erlebnis.\nSie können den Christkindlmarkt besuchen oder einfach nur durch die weihnachtlich geschmückte Stadt bummeln. \nAuch in diesem Jahr führt Herr Robert Schmidt unter dem Thema: „Vom Kloster zum Museum auf der Straße der Menschenrechte vom Mittelalter zur Moderne“ durch unbekannte Straßen und historische Plätze. \nAnmeldung: HauckAnne@aol.com \n 
URL:https://bsboffice.de/event/rg-franken-bsb-netzwerktreffen/
LOCATION:Lebkuchen Schmidt\, Zollhausstraße 30\, Nürnberg\, 90469\, Deutschland
CATEGORIES:Regionalgruppe Franken,Regionalgruppen
ORGANIZER;CN="Regionalgruppe Franken":MAILTO:HauckAnne@aol.com
END:VEVENT
END:VCALENDAR