BEGIN:VCALENDAR
VERSION:2.0
PRODID:-// - ECPv6.15.19//NONSGML v1.0//EN
CALSCALE:GREGORIAN
METHOD:PUBLISH
X-ORIGINAL-URL:https://bsboffice.de
X-WR-CALDESC:Veranstaltungen für 
REFRESH-INTERVAL;VALUE=DURATION:PT1H
X-Robots-Tag:noindex
X-PUBLISHED-TTL:PT1H
BEGIN:VTIMEZONE
TZID:UTC
BEGIN:STANDARD
TZOFFSETFROM:+0000
TZOFFSETTO:+0000
TZNAME:UTC
DTSTART:20170101T000000
END:STANDARD
END:VTIMEZONE
BEGIN:VEVENT
DTSTART;TZID=UTC:20180110T173000
DTEND;TZID=UTC:20180110T210000
DTSTAMP:20260423T171138
CREATED:20180109T165452Z
LAST-MODIFIED:20180109T170033Z
UID:7098-1515605400-1515618000@bsboffice.de
SUMMARY:RG Chemnitz: Neujahrs-Empfang 2018
DESCRIPTION:Empfang Mittwoch\, 10. Januar 2018 / 17:30 Uhr\nTagungs-Ort Hotel an der Oper / Straße der Nationen 56 in 09111 Chemnitz\nRaum Vivaldi / 1. OG \nBegrüßung & Empfang mit Buffet und Small Talk\nPräsentation von unserem bSb-Mitglied Andrea Otte\n„Norwegen mit dem Schiff erkunden – eine Traum-Reise“\n„Persönliche Mitglieder-Präsentation – Mein Weg 2018“ \nPräsentation 18:30 Uhr / Andrea Otte – Gruppen-Mitglied im bSb\nAnmeldung Ist bitte erwünscht: Chemnitz@bSb-office.de\nEinladung NeujahrsEmpfang 10. Januar 2018
URL:https://bsboffice.de/event/rg-chemnitz-neujahrs-empfang-2018/
LOCATION:Hotel an der Oper Chemnitz\, Straße der Nationen 56\, Chemnitz\, Deutschland
CATEGORIES:Regionalgruppe Chemnitz
END:VEVENT
BEGIN:VEVENT
DTSTART;TZID=UTC:20180115T180000
DTEND;TZID=UTC:20180115T210000
DTSTAMP:20260423T171138
CREATED:20180109T094108Z
LAST-MODIFIED:20180109T094108Z
UID:7060-1516039200-1516050000@bsboffice.de
SUMMARY:RG Dresden: Tagen in Dresden: Pullman Hotel Dresden Newa
DESCRIPTION:Referent:       Tom Jacob\, Senior Sales Manager im Pullmann Dresden Newa \nWer eine Tagung in Dresden plant und dafür passende Konferenzräume sucht\, hat die Qual der Wahl. Das Pullman Hotel bietet sich wegen seiner zentralen Lage und der Nähe zu Hauptbahnhof und Innenstadt an. Die sieben Tagungsräume sind mit modernster Tagungstechnik ausgestattet und können individuell erweitert werden. Außerdem finden die Tagungsgäste in einem der 319 Zimmer mit bodentiefen Panoramafenstern eine komfortable Übernachtungsmöglichkeit. \nTagungsort:  Pullman Hotel Dresden Newa\, Prager Straße 2c\, 01069 Dresden \nAnmeldung:  dresden@bsboffice.de \nFür Mitglieder der bSb Regionalgruppe Dresden ist die Teilnahme kostenlos\, Gäste zahlen 15 €
URL:https://bsboffice.de/event/rg-dresden-tagen-in-dresden-pullman-hotel-dresden-newa/
LOCATION:Pullmann Hotel Dresden Newa\, Prager Straße 2c\, Dresden\, 01069
CATEGORIES:Regionalgruppe Dresden,Regionalgruppen
END:VEVENT
BEGIN:VEVENT
DTSTART;TZID=UTC:20180116T190000
DTEND;TZID=UTC:20180116T210000
DTSTAMP:20260423T171138
CREATED:20171212T155330Z
LAST-MODIFIED:20171212T155330Z
UID:6892-1516129200-1516136400@bsboffice.de
SUMMARY:RG Rhein-Neckar: Jahresversammlung
DESCRIPTION:Jahresversammlung der bSb Regionalgruppe Rhein-Neckar \nnur für Mitglieder!
URL:https://bsboffice.de/event/rg-rhein-neckar-jahresversammlung/
LOCATION:Maritim Hotel Mannheim\, Friedrichsplatz 2\, Mannheim\, Baden-Württemberg\, 68165\, Deutschland
CATEGORIES:Regionalgruppe Rhein-Neckar,Regionalgruppen
END:VEVENT
BEGIN:VEVENT
DTSTART;TZID=UTC:20180117T180000
DTEND;TZID=UTC:20180117T210000
DTSTAMP:20260423T171138
CREATED:20180102T142837Z
LAST-MODIFIED:20180102T142837Z
UID:7007-1516212000-1516222800@bsboffice.de
SUMMARY:RG Hannover: Jahresversammlung
DESCRIPTION:Jahresversammlung der bSb Regionalgruppe Hannover \n– nur für Mitglieder – \nHierzu erhalten Sie eine gesonderte Einladung mit Tagesordnung. \n 
URL:https://bsboffice.de/event/rg-hannover-jahresversammlung/
LOCATION:Restaurant „Da Lello“\, Restaurant „Da Lello“\, Marienstraße 5\, Hannover\, 30171\, Deutschland
CATEGORIES:Regionalgruppe Hannover,Regionalgruppen
ORGANIZER;CN="Regionalgruppe Hannover":MAILTO:hannover@bsb-office.de
END:VEVENT
BEGIN:VEVENT
DTSTART;TZID=UTC:20180122T193000
DTEND;TZID=UTC:20180122T220000
DTSTAMP:20260423T171138
CREATED:20180102T125201Z
LAST-MODIFIED:20180102T125201Z
UID:7004-1516649400-1516658400@bsboffice.de
SUMMARY:RG Franken: Neujahrstreffen
DESCRIPTION:Wir sehn aufs alte Jahr zurück und haben neuen Mut.\nEin neues Jahr\, ein neues Glück\, die Zeit ist immer gut.\n(Hoffmann von Fallersleben\, 1798 – 1874) \n  \nWir möchten gemeinsam das neue bSb-Jahr beginnen\, daher sind alle Mitglieder\, Freunde und Interessenten der Regionalgruppe Franken herzlich zu dieser Veranstaltung eingeladen. \n  \nAnmeldung: monika.m.schmidt@t-online.de \n 
URL:https://bsboffice.de/event/rg-franken-neujahrstreffen/
LOCATION:Hotel Mercure Schweinfurt Maininsel\, Maininsel 10 - 12\, Schweinfurt\, 97424\, Deutschland
CATEGORIES:Regionalgruppe Franken,Regionalgruppen
ORGANIZER;CN="Regionalgruppe Franken":MAILTO:HauckAnne@aol.com
END:VEVENT
BEGIN:VEVENT
DTSTART;TZID=UTC:20180123T190000
DTEND;TZID=UTC:20180123T210000
DTSTAMP:20260423T171138
CREATED:20171216T160830Z
LAST-MODIFIED:20171216T160830Z
UID:6919-1516734000-1516741200@bsboffice.de
SUMMARY:RG Berlin: Abendseminar: Medienarbeit – Lobbying – Marketing
DESCRIPTION:Abendseminar:\nMedienarbeit – Lobbying – Marketing –\nZiele\, Methoden\, Möglichkeiten \nReferent: Mario Junglas \nBeginn: 19:00 Uhr\nOrt: Investitionsbank Berlin\, Bundesallee 210\, 10719 Berlin \nWir bitten um Anmeldung per E-Mail unter berlin@bsb-office.de \nFür Mitglieder der Regionalgruppe Berlin ist die Teilnahme kostenfrei. Gäste zahlen bitte 18 EUR in bar und vor Ort\, Schüler\, Auszubildende und Studenten (mit Nachweis) 9 EUR.
URL:https://bsboffice.de/event/rg-berlin-abendseminar-medienarbeit-lobbying-marketing/
LOCATION:Investitionsbank Berlin\, Bundesallee 10\, Berlin\, 10719
CATEGORIES:Regionalgruppe Berlin
ORGANIZER;CN="Regionalgruppe Berlin":MAILTO:berlin@bsboffice.de
END:VEVENT
BEGIN:VEVENT
DTSTART;TZID=UTC:20180123T190000
DTEND;TZID=UTC:20180123T220000
DTSTAMP:20260423T171138
CREATED:20171219T145157Z
LAST-MODIFIED:20171219T145157Z
UID:6942-1516734000-1516744800@bsboffice.de
SUMMARY:RG Ruhrgebiet: Jahresversammlung (nur für bSb-Mitglieder)
DESCRIPTION:
URL:https://bsboffice.de/event/rg-ruhrgebiet-jahresversammlung-nur-fuer-bsb-mitglieder/
LOCATION:IntercityHotel Essen\, Hachestraße 10\, Essen\, 45127\, Deutschland
CATEGORIES:Regionalgruppe Ruhrgebiet,Regionalgruppen
END:VEVENT
BEGIN:VEVENT
DTSTART;TZID=UTC:20180124T180000
DTEND;TZID=UTC:20180124T210000
DTSTAMP:20260423T171138
CREATED:20180122T144548Z
LAST-MODIFIED:20180122T144727Z
UID:7317-1516816800-1516827600@bsboffice.de
SUMMARY:RG Saarbrücken: Jahresversammlung
DESCRIPTION:Jahresversammlung 2018 und Besuch der Vorstandsvorsitzenden Rosi Rehbein\n– nur für Mitglieder der bSb-Regionalgruppe Saarbrücken – \n18:00 Uhr Sektempfang \n19:15 Uhr Beginn der Jahresversammlung \nAnmeldung: saar@bsb-office.de \n 
URL:https://bsboffice.de/event/rg-saarbruecken-jahresversammlung/
LOCATION:Altes Pfarrhaus\, Hauptstraße 2\, Saarlouis\, 66740\, Deutschland
CATEGORIES:Regionalgruppe Saar,Regionalgruppen
END:VEVENT
BEGIN:VEVENT
DTSTART;TZID=UTC:20180126T080000
DTEND;TZID=UTC:20180126T170000
DTSTAMP:20260423T171138
CREATED:20180126T122439Z
LAST-MODIFIED:20180126T122439Z
UID:7369-1516953600-1516986000@bsboffice.de
SUMMARY:RG Saarbrücken: Die Macht der Sprache
DESCRIPTION:Die Macht der Sprache \nReferentin: Luca Pauer \n18:30 Uhr Sektempfang \n19:00 Uhr Beginn der Veranstaltung \nAnmeldung: saar@bsb-office.de
URL:https://bsboffice.de/event/rg-saarbruecken-die-macht-der-sprache/
LOCATION:Sparte 4\, Eisenbahnstraße 22\, Saarbrücken\, 66111\, Deutschland
CATEGORIES:Regionalgruppe Saar,Regionalgruppen
END:VEVENT
BEGIN:VEVENT
DTSTART;TZID=UTC:20180127T100000
DTEND;TZID=UTC:20180127T140000
DTSTAMP:20260423T171138
CREATED:20171216T162120Z
LAST-MODIFIED:20171216T162519Z
UID:6923-1517047200-1517061600@bsboffice.de
SUMMARY:RG Berlin: Wir erkunden mit dem Schauspieler Burkhard Heyl unsere Stadt\, anschließend Neujahrsfrühstück
DESCRIPTION:Neujahrsfrühstück: „Die Berliner erkunden ihre Stadt – Bekanntes und Unbekanntes rund um den Gendarmenmarkt“\nRundgang mit dem Schauspieler Burkhard Heyl\nanschließend Brunch \nTreffpunkt: 9:50 Uhr an der großen Treppe des Konzerthauses auf dem Gendarmenmarkt \nStart:10:00 Uhr \nNur für Mitglieder der Regionalgruppe Berlin \nVerbindliche Anmeldung bitte bis zum 21. Januar 2018 per E-Mail: berlin@bsb-office.de
URL:https://bsboffice.de/event/rg-berlin-wir-erkunden-mit-dem-schauspieler-burkhard-heyl-unsere-stadt-anschliessend-neujahrsfruehstueck/
LOCATION:Gendarmenmarkt Berlin\, Berlin
CATEGORIES:Regionalgruppe Berlin
ORGANIZER;CN="Regionalgruppe Berlin":MAILTO:berlin@bsboffice.de
END:VEVENT
BEGIN:VEVENT
DTSTART;TZID=UTC:20180130T190000
DTEND;TZID=UTC:20180130T210000
DTSTAMP:20260423T171138
CREATED:20180111T194522Z
LAST-MODIFIED:20180111T194522Z
UID:7135-1517338800-1517346000@bsboffice.de
SUMMARY:RG Düsseldorf: Jahresversammlung
DESCRIPTION:Jahresversammlung der bSb Regionalgruppe Düsseldorf \nBeginn: 19:00 Uhr \nAnmeldung erbeten unter duesseldorf@bsb-office.de
URL:https://bsboffice.de/event/rg-duesseldorf-jahresversammlung/
CATEGORIES:Regionalgruppe Düsseldorf
ORGANIZER;CN="RG D%C3%BCsseldorf":MAILTO:duesseldorf@bsb-office.de
END:VEVENT
BEGIN:VEVENT
DTSTART;TZID=UTC:20180131T183000
DTEND;TZID=UTC:20180131T210000
DTSTAMP:20260423T171138
CREATED:20180110T180336Z
LAST-MODIFIED:20180110T180336Z
UID:7133-1517423400-1517432400@bsboffice.de
SUMMARY:RG Hamburg: Gesprächsführung in Konfliktsituationen
DESCRIPTION:Gesprächsführung in Konfliktsituationen \nMittwoch\, 31. Januar 2018\nBeginn: 18:30 Uhr\nReferentin: Rosemarie Rehbein\nVeranstaltungsort: Hafen Hotel Hamburg \nAnmeldung bitte unter hamburg@bsb-office.de
URL:https://bsboffice.de/event/rg-hamburg-gespraechsfuehrung-in-konfliktsituationen/
LOCATION:Hafen Hotel Hamburg
CATEGORIES:Regionalgruppe Hamburg
ORGANIZER;CN="bSb Regionalgruppe Hamburg":MAILTO:hamburg@bsb-office.de
END:VEVENT
END:VCALENDAR