BEGIN:VCALENDAR
VERSION:2.0
PRODID:-// - ECPv6.15.19//NONSGML v1.0//EN
CALSCALE:GREGORIAN
METHOD:PUBLISH
X-ORIGINAL-URL:https://bsboffice.de
X-WR-CALDESC:Veranstaltungen für 
REFRESH-INTERVAL;VALUE=DURATION:PT1H
X-Robots-Tag:noindex
X-PUBLISHED-TTL:PT1H
BEGIN:VTIMEZONE
TZID:UTC
BEGIN:STANDARD
TZOFFSETFROM:+0000
TZOFFSETTO:+0000
TZNAME:UTC
DTSTART:20170101T000000
END:STANDARD
END:VTIMEZONE
BEGIN:VEVENT
DTSTART;TZID=UTC:20180204T110000
DTEND;TZID=UTC:20180204T150000
DTSTAMP:20260423T154039
CREATED:20171212T155512Z
LAST-MODIFIED:20171212T155512Z
UID:6894-1517742000-1517756400@bsboffice.de
SUMMARY:RG Rhein-Neckar: Rotweinwanderung
DESCRIPTION:Neujahrsveranstaltung: Rotweinwanderung in Schriesheim \nTreffpunkt: Rathaus Schriesheim \nKosten: Selbstzahler \nInfos unter https://www.verkehrsverein-schriesheim.de \nAnmeldung unter rhein-neckar@bsb-office.de
URL:https://bsboffice.de/event/rg-rhein-neckar-rotweinwanderung/
CATEGORIES:Regionalgruppe Rhein-Neckar,Regionalgruppen
END:VEVENT
BEGIN:VEVENT
DTSTART;TZID=UTC:20180205T173000
DTEND;TZID=UTC:20180205T200000
DTSTAMP:20260423T154039
CREATED:20180109T095231Z
LAST-MODIFIED:20180109T095231Z
UID:7063-1517851800-1517860800@bsboffice.de
SUMMARY:RG Dresden: Wissensort der Zukunft - Die neue Zentralbibliothek im Kulturpalast
DESCRIPTION:Referentin: Susann Keck \nBesuchereingang: Wilsdruffer Straße \nAnmeldungen bis zum 29. Januar 2018 bitte an dresden@bsb-office.de
URL:https://bsboffice.de/event/rg-dresden-wissensort-der-zukunft-die-neue-zentralbibliothek-im-kulturpalast/
LOCATION:Kulturpalast Dresden\, Schloßstraße 2\, Dresden\, 01067
CATEGORIES:Regionalgruppe Dresden,Regionalgruppen
END:VEVENT
BEGIN:VEVENT
DTSTART;TZID=UTC:20180206T180000
DTEND;TZID=UTC:20180206T210000
DTSTAMP:20260423T154039
CREATED:20180115T094237Z
LAST-MODIFIED:20180115T094237Z
UID:7145-1517940000-1517950800@bsboffice.de
SUMMARY:RG Stuttgart: "Speed-Networking"
DESCRIPTION:Ein gutes\, breitaufgestelltes Netzwerk nutzt uns beruflich in vielerlei Hinsicht. Der konkrete Nutzen macht sich vielleicht nicht sofort bemerkbar\, aber es wird immer wieder Situationen geben – sei es die Hotel- oder gar die Jobsuche – in denen man froh sein wird\, auf persönliche Kontakte zurückgreifen zu können. \nDeshalb möchten wir Sie hiermit ganz herzlich zu unserem „Speed-Networking“-Abend einladen und Ihnen die Gelegenheit geben\, sich intensiver untereinander auszutauschen. Ziel der Veranstaltung ist es\, dass am Ende des Abends alle Teilnehmerinnen und Teilnehmer miteinander gesprochen und sich über ihre jeweiligen Fachgebiete und Erfahrungen ausgetauscht haben. \nWir freuen uns auf spannende Gespräche mit Ihnen! \nPS: Visitenkarten nicht vergessen… \nGastbeitrag: 15Euro \nIhre Anmeldung senden Sie bitte bis zum 30. Januar 2018 an stuttgart@bsb-office.de
URL:https://bsboffice.de/event/rg-stuttgart-speed-networking/
LOCATION:arcona MO.HOTEL\, Hauptstraße 26\, Stuttgart\, 70563
CATEGORIES:Regionalgruppe Stuttgart,Regionalgruppen
END:VEVENT
BEGIN:VEVENT
DTSTART;TZID=UTC:20180207T173000
DTEND;TZID=UTC:20180207T193000
DTSTAMP:20260423T154039
CREATED:20180119T100059Z
LAST-MODIFIED:20180119T172958Z
UID:7278-1518024600-1518031800@bsboffice.de
SUMMARY:RG Chemnitz: Besuch der Haut-Manufaktur amaderm
DESCRIPTION:Mittwoch\, 7. Februar 2018 \nBesuch der Haut-Manufaktur amaderm www.haut-manufaktur.com \nEmpfang bei Angélique Donner (Geschäftsführerin) \nEmpfang 17:30 Uhr – 19:30 Uhr \nStraßburger Straße 34 in 09120 Chemnitz \nAnmeldung bitte über chemnitz@bsb-office.de
URL:https://bsboffice.de/event/rg-chemnitz-besuch-der-haut-manufaktur-amaderm/
LOCATION:Hautmanufaktur amaderm\, Straßburger Straße 34\, Chemnitz\, 09120
CATEGORIES:Regionalgruppe Chemnitz
END:VEVENT
BEGIN:VEVENT
DTSTART;TZID=UTC:20180208T190000
DTEND;TZID=UTC:20180208T210000
DTSTAMP:20260423T154039
CREATED:20180120T171735Z
LAST-MODIFIED:20180120T171735Z
UID:7302-1518116400-1518123600@bsboffice.de
SUMMARY:RG Frankfurt: Vorsorgevollmacht\, Betreuungs- und Patientenverfügung\, Nachlassregelung
DESCRIPTION:Vorsorgevollmacht\, Betreuungs- und Patientenverfügung\, Nachlassregelung \nAnmeldungen: frankfurt@bsb-office.de
URL:https://bsboffice.de/event/rg-frankfurt-vorsorgevollmacht-betreuungs-und-patientenverfuegung-nachlassregelung/
LOCATION:Novotel Frankfurt City\, Lise-Meitner-Straße 2\, Frankfurt\, 60486\, Deutschland
CATEGORIES:Regionalgruppe Frankfurt,Regionalgruppen
END:VEVENT
BEGIN:VEVENT
DTSTART;TZID=UTC:20180213T180000
DTEND;TZID=UTC:20180213T210000
DTSTAMP:20260423T154039
CREATED:20180208T153736Z
LAST-MODIFIED:20180208T153827Z
UID:7457-1518544800-1518555600@bsboffice.de
SUMMARY:RG Gifhorn-Wolfsburg-Braunschweig: Netzwerkabend -Tipps\, Tricks und Anregungen
DESCRIPTION:Liebe Gäste\, \ndie Regionalgruppe Gifhorn-Wolfsburg-Braunschweig des Bundesverbands Sekretariat und Büromanagement e. V. lädt zu einem Netzwerkabend inkl. Fingerfoodbuffet ein: \nTermin:                 Dienstag\, 13. Februar 2018 \nBeginn:                 18:00 Uhr \nOrt:                       Best Western Premier Hotel Alte Mühle \nWolfsburger Straße 72 \n38554 Weyhausen \nThema:                 Netzwerken – Tipps\, Tricks und Anregungen \nWas genau ist das Geheimnis für richtiges Netzwerken? \nWorauf kommt es beim Netzwerken an? \nKann man Netzwerken lernen? \nReferentin:            Carmen Oldenburger\, Assistentin des Hauptgeschäftsführers | Büroleiterin beim DSLV e.V. Berlin \nDes Weiteren möchten wir Ihnen unser Jahresprogramm 2018 vorstellen. Interessante Themen-Abende erwarten Sie. \nBeitrag: 13\,00 € pro Person; Anmeldungen bitte bis zum 09.02.2018 an Braunschweig@bsb-office.de \nSind Sie dabei? Wir freuen uns auf den Austausch mit Ihnen und auf einen tollen Abend. \nHerzliche Grüße \nIhre \nCarmen Oldenburger
URL:https://bsboffice.de/event/rg-gifhron-wolfsburg_braunschweig-netzwerkabend-tipps-tricks-und-anregungen/
LOCATION:Best Western Premier Hotel Alte Mühle\, Wolfsburger Straße 72\, Weyhausen\, 38554\, Deutschland
CATEGORIES:Regionalgruppe Braunschweig,Regionalgruppe Gifhorn,Regionalgruppe Wolfsburg
ORGANIZER;CN="bsb Regionalgruppe Gifhorn-Wolfsburg-Braunschweig":MAILTO:gifhorn@bsb-office.de
END:VEVENT
BEGIN:VEVENT
DTSTART;TZID=UTC:20180213T190000
DTEND;TZID=UTC:20180213T210000
DTSTAMP:20260423T154039
CREATED:20171216T164223Z
LAST-MODIFIED:20180130T183925Z
UID:6929-1518548400-1518555600@bsboffice.de
SUMMARY:RG Berlin: Europäische Datenschutz-Grundverordnung (EU-DSGVO) ab Mai 2018
DESCRIPTION:Europäische Datenschutz-Grundverordnung (EU-DSGVO) ab Mai 2018 \nInhalte: \n\nRückblick BDSG (Bundesdatenschutzgesetz) und Vorschau EU DSGVO (EU Datenschutzgrundverordnung)\nWas heißt personenbezogenes bzw. personenbeziehbares Datum?\nWann darf ich als Unternehmer Daten erheben und was ist zu beachten?\nGrundsätze zur ordnungsgemäßen Verarbeitung der Daten\nWas sind Informationspflichten?\nDokumentationspflichten: Was ist eine Risiko-Folgeabschätzung und wann muss diese durchgeführt werden?\nRechte der Betroffenen\nWas gilt künftig bei der Auftragsdatenverarbeitung?\nWas passiert bei Verstößen der EU DSGVO?\nHilft es unsere Daten ins Ausland zu verlegen (AMAZON CLOUD\, iCLOUD etc.)?\n\nHerr Wandrey wird auch auf den Öffentlichen Dienst\, Verbände … eingehen\, für diesen Bereich werden gesonderte Beschlüsse und Gesetze folgen. \nReferent: Jan Wandrey  \nHerr Wandrey ist geschäftsführender Gesellschafter der AGIDAT IT-Sicherheit/Datenschutz. Als ausgebildeter Elektroingenieur\, Elektroniker und zertifizierter Datenschutzbeauftragter durch die FH Südwestfalen spezialisierte sich Herr Waqndrey seit 2009 im Bereich Datenschutz. Als leidenschaftlicher Berater stellt er seit 2010 für Unternehmer den externen Datenschutzbeauftragten (DSB) und seit 2013 den Informationssichterheitsbeauftragten (ISB)\, dieser macht Unternehmen sicher und compliant. www.agidat.de \nOrt:      Investitionsbank Berlin\, Seminarraum „Havel-Lounge“\, Bundesallee 210\, 10719 Berlin \nBVG-Verbindung: S/U-Spichernstraße \n(Wenn man Spichernstraße aus der U-Bahn kommt\, ist der Eingang gleich an der Ecke Spichernstraße. Man braucht nicht bis zum Haupteingang zu gehen.) \nHier eine grobe Anfahrtsbeschreibung:https://www.ibb.de/de/service/anfahrt/anfahrt.html \nVerbindliche Anmeldung bitte bis zum 9. Februar 2018 per E-Mail: berlin@bsb-office.de \nGäste sind herzlich willkommen und bezahlen an diesem Abend 18 EUR\, 9 EUR für Schüler\, Auszubildende\, Studenten und Rentner \n 
URL:https://bsboffice.de/event/rg-berlin-europaeische-datenschutzvereinbarung-ab-mai-2018/
LOCATION:Investitionsbank Berlin\, Bundesallee 10\, Berlin\, 10719
CATEGORIES:Regionalgruppe Berlin
ORGANIZER;CN="Regionalgruppe Berlin":MAILTO:berlin@bsboffice.de
END:VEVENT
BEGIN:VEVENT
DTSTART;TZID=UTC:20180214T180000
DTEND;TZID=UTC:20180214T210000
DTSTAMP:20260423T154039
CREATED:20180102T143053Z
LAST-MODIFIED:20180102T143053Z
UID:7009-1518631200-1518642000@bsboffice.de
SUMMARY:RG Hannover: Smartes Wohnen
DESCRIPTION:  \nWir besichtigen die erste smarte und barrierefreie Musterwohnung in Hannover\, die das Leben sowohl der jüngeren als auch älteren Generation erleichtern und die Sicherheit erhöhen soll. In der Musterwohnung können alle Sachen ausprobiert werden. Lassen Sie sich von den elektronischen Hilfsmitteln begeistern und für Ihr eigenes Zuhause inspirieren. \nBegrenzte Teilnehmerzahl  \nReferent: Patrick Ney\nProjektmanager für Digitalisierung der Seniorenarbeit und in der alter(n)sgerechten Quartiersentwicklung \nOrt: Buchnerstraße 15\, 30627 Hannover (Roderbruch) \nAnmeldung: hannover@bsb-office.de
URL:https://bsboffice.de/event/rg-hannover-smartes-wohnen/
CATEGORIES:Regionalgruppe Hannover,Regionalgruppen
ORGANIZER;CN="Regionalgruppe Hannover":MAILTO:hannover@bsb-office.de
END:VEVENT
BEGIN:VEVENT
DTSTART;TZID=UTC:20180219T193000
DTEND;TZID=UTC:20180219T210000
DTSTAMP:20260423T154039
CREATED:20180116T150708Z
LAST-MODIFIED:20180116T150708Z
UID:7181-1519068600-1519074000@bsboffice.de
SUMMARY:RG Franken: Abendseminar "Narzissmus"
DESCRIPTION:Abendseminar „Narzissmus – wer wird Opfer? Was kann man tun?“ \nNarzissmus ist in unserer Gesellschaft ist stark im Wachsen. Konsum\, Macht\, Dominanz und Selbstinszenierung sind die neuen gesellschaftlichen Werte. \nDie narzisstische Persönlichkeitsstörung ist bereits seit den achtziger Jahren ein stark zunehmender Phänotyp. Narzissmus schwächt jede Zwischenmenschlichkeit\, soziale Werte\, Respekt und Rücksicht in der modernen Gesellschaft. Dies führt oft zu destruktiven Beziehungen nicht nur in der Partnerschaft sondern auch im Beruf. \nWarum diese Störungen so gefährlich sind\, welche Folgen sie haben und woran man Narzissten erkennt\, behandelt dieser Vortrag mit dem Titel „Narzissmus – wer wird Opfer? Was kann man tun? \n  \nAnmeldung: HauckAnne@aol.com
URL:https://bsboffice.de/event/rg-franken-abendseminar-narzissmus/
LOCATION:Hotel Mercure Schweinfurt Maininsel\, Maininsel 10 - 12\, Schweinfurt\, 97424\, Deutschland
CATEGORIES:Regionalgruppe Franken,Regionalgruppen
ORGANIZER;CN="Regionalgruppe Franken":MAILTO:HauckAnne@aol.com
END:VEVENT
BEGIN:VEVENT
DTSTART;TZID=UTC:20180220T190000
DTEND;TZID=UTC:20180220T210000
DTSTAMP:20260423T154039
CREATED:20171219T145446Z
LAST-MODIFIED:20171219T145446Z
UID:6944-1519153200-1519160400@bsboffice.de
SUMMARY:RG Ruhrgebiet: "Persönlichkeits-Update in digitalen Zeiten"
DESCRIPTION:Referent: Wulf-Hinnerk Vauk \nVorher treffen sich die bSb-Mitglieder und Gäste ab 17:30 Uhr zum Netzwerken bei einem Imbiss (Selbstzahler) im Foyer oder in der Tagesbar des Hotels.
URL:https://bsboffice.de/event/rg-ruhrgebiet-persoenlichkeits-update-in-digitalen-zeiten/
LOCATION:IntercityHotel Essen\, Hachestraße 10\, Essen\, 45127\, Deutschland
CATEGORIES:Regionalgruppe Ruhrgebiet,Regionalgruppen
END:VEVENT
BEGIN:VEVENT
DTSTART;TZID=UTC:20180226T160000
DTEND;TZID=UTC:20180226T210000
DTSTAMP:20260423T154039
CREATED:20180126T121345Z
LAST-MODIFIED:20180126T121345Z
UID:7359-1519660800-1519678800@bsboffice.de
SUMMARY:RG Saarbrücken: Office Day 2018 - Assistenz 4.0 Wohin geht die Reise?
DESCRIPTION:Smart Office – Assistenz 4.0: Wohin geht die Reise? \nReferentin: Silke Nevermann \nVortrag und Fachausstellung \nDetails und Anmeldung: Flyer RG-Saar-Office Weeks 2018
URL:https://bsboffice.de/event/rg-saarbruecken-office-day-2018-assistenz-4-0-wohin-geht-die-reise/
LOCATION:Hotel Mercure Saarbrücken Süd\, Zinzinger Straße 9\, Saarbrücken\, Saarbrücken\, 66117\, Deutschland
CATEGORIES:Regionalgruppe Saar,Regionalgruppen
END:VEVENT
BEGIN:VEVENT
DTSTART;TZID=UTC:20180226T173000
DTEND;TZID=UTC:20180226T210000
DTSTAMP:20260423T154039
CREATED:20180109T095343Z
LAST-MODIFIED:20180226T094052Z
UID:7066-1519666200-1519678800@bsboffice.de
SUMMARY:RG Dresden: Office Week in Dresden - Veranstaltungs- und Tagungsmanagement in Dresden
DESCRIPTION:Einladung folgt
URL:https://bsboffice.de/event/rg-dresden-office-week-in-dresden/
LOCATION:NH Collection Dresden Altmarkt\, An der Kreuzkirche 2\, Dresden\, 01067
CATEGORIES:Regionalgruppe Dresden,Regionalgruppen
END:VEVENT
BEGIN:VEVENT
DTSTART;TZID=UTC:20180226T183000
DTEND;TZID=UTC:20180226T203000
DTSTAMP:20260423T154039
CREATED:20180130T175318Z
LAST-MODIFIED:20180209T151126Z
UID:7398-1519669800-1519677000@bsboffice.de
SUMMARY:RG Hamburg: Office Day - Smart Office
DESCRIPTION:Smart Office\nSmart Office ist Teil von „New Work“\, „Smart working“ oder „Future Work“. Diese Begriffe fassen zusammen\, wie wir künftig arbeiten werden. Im Smart Office sind Routinetätigkeiten reduziert und automatisiert. Stattdessen wird gemeinsam kreativ\, innovativ\, wertschöpfend und effizient gearbeitet\, auch als Assistenz. \nQualität\, Geschwindigkeit\, Transparenz sind im Fokus. \nFür Ihre Arbeit im Office Umfeld bedeutet das\, und zwar nicht erst in der Zukunft\, sondern bereits heute:\n– konsequent noch digitaleres Arbeiten\n– Zusammenarbeit durch neue Methoden und Tools verbessern\n– mobil\, zeitlich flexibler in verteilten Teams zusammenzuarbeiten\n– fortwährend neue Weiterbildungsmöglichkeiten und Formate zu nutzen \nNeue Arbeitsmethoden und digitale Tools sind dabei Herausforderung und Lösung zugleich. Anhand „CCC“-Formel (Content\, Collaboration\, Celerity) werden Sie an diesem Abend erkennen\, dass es gar nicht so schwer ist\, in Ihrem eigenen Office-Umfeld erste Ansatzpunkte für Veränderungen zu finden\, damit Sie nicht nur den Anforderungen des smart Office gerecht werden\, sondern auch Nutzen daraus zu ziehen können\, wie:\n– sicher die richtigen Informationen auf „Knopfdruck“ bekommen\n– Kompetenz- und Wissenszuwachs\n– Höherwertige Tätigkeiten\, damit Zukunftssicherung Ihres Arbeitsplatzes\n– Zeitgewinn für Ihre persönlichen Ziele – Mobilität und Flexibilität \nAgenda\nMontag\, 26. Februar 2018\n18:30 Uhr Begrüßung durch die Regionalleitung\nVortrag und Workshop mit Andrea Kaden\n20:30 Uhr Ende der Veranstaltung \nReferentin:\nAndrea Kaden \nInhaberin von zeitgewinn hamburg\, ist Digital Change Agent und Effizienz-Trainerin. Ihre berufliche Leidenschaft ist die Prozessoptimierung und Digitalisierung im Office. Ein Ergebnis dieser beiden Schwerpunkte ist das digitale\, papierlose Büro\, das sie selbst lebt und dessen Erreichung sie in Team-Workshops und Arbeitsplatzcoachings vermittelt. Andrea Kaden liebt es\, vor Ort in den verschiedensten Branchen mit den verschiedensten Menschen zusammenzuarbeiten und sie für kritisches Hinterfragen\,\nneue Arbeitsweisen die Chancen der Digitalisierung und fortwährendes Lernen zu öffnen und zu begeistern. Mit Vorträgen und Veranstaltungsmoderationen inspiriert und motiviert sie regelmäßig Zuhörer bei größeren Veranstaltungen. \nEinladung zum Office Day der bSb-Regionalgruppe Hamburg_26.02.2018 \nEMPIRE RIVERSIDE HOTEL\nBernhard-Nocht-Straße 97\n20359 Hamburg \nAnmeldung:\nWir bitten um eine verbindliche Anmeldung per E-Mail an hamburg@bsb-office.de bis zum 19. Februar 2018.\nIhre Anmeldungen werden wir gern per E-Mail bestätigen.\nTeilnahmegebühr:\nbSb-Mitglieder Regionalgruppe Hamburg: kostenfrei\nbSb-Mitglieder (nicht RG Hamburg): EUR 15\,00\nGäste: EUR 18\,00 \nBitte überweisen Sie die Teilnahmegebühr unter Angabe Ihres Namens und des Verwendungszwecks „VA 26.02.2018“ bis spätestens zum 21. Februar 2018 auf das Konto der bSb Regionalgruppe Hamburg.
URL:https://bsboffice.de/event/rg-hamburg-office-day-smart-office/
LOCATION:Empire Riverside Hotel\, Bernhard-Nocht-Str. 97 \, Hamburg \, 20359
CATEGORIES:Regionalgruppe Hamburg
ORGANIZER;CN="bSb Regionalgruppe Hamburg":MAILTO:hamburg@bsb-office.de
END:VEVENT
BEGIN:VEVENT
DTSTART;TZID=UTC:20180226T190000
DTEND;TZID=UTC:20180226T210000
DTSTAMP:20260423T154039
CREATED:20180120T171941Z
LAST-MODIFIED:20180120T171941Z
UID:7304-1519671600-1519678800@bsboffice.de
SUMMARY:RG Frankfurt: bSb Office Week - Facebook\, XING\, Twitter & Co. - Soziale Netzwerke beruflich und privat nutzen
DESCRIPTION:RG Frankfurt: >>bSb Office Week<< Facebook\, XING\, Twitter & Co. – Soziale Netzwerke beruflich und privat nutzen \nAnmeldung: frankfurt@bsb-office.de \n 
URL:https://bsboffice.de/event/rg-frankfurt-bsb-office-week-facebook-xing-twitter-co-soziale-netzwerke-beruflich-und-privat-nutzen/
LOCATION:Jumeirah Frankfurt\, Frankfurt\, Deutschland
CATEGORIES:Regionalgruppe Frankfurt,Regionalgruppen
END:VEVENT
BEGIN:VEVENT
DTSTART;TZID=UTC:20180227T173000
DTEND;TZID=UTC:20180227T213000
DTSTAMP:20260423T154039
CREATED:20180207T095928Z
LAST-MODIFIED:20180207T095928Z
UID:7446-1519752600-1519767000@bsboffice.de
SUMMARY:RG Düsseldorf: Office Day "Assistenz der Zukunft - Wohin bringt uns die Digitalisierung?"
DESCRIPTION:Programm: \n17:30 Uhr  Check-in und Get-together \n18:00 Uhr  Begrüßung \n18:15 Uhr  Kurzvorstellung der Aussteller \n18:30 Uhr  Kurzvortrag „Mutig Deine Arbeitswelt gestalten!“\nReferentin: Tanja Peters \n19:00 Uhr  Pause \n20:00 Uhr  Impulsvortrag „Assistenz der Zukunft – Wohin bringt uns die Digitalisierung?“\nReferentin: Enisa Romanic \n21:30 Uhr  Verabschiedung und Ausklang \n  \nTeilnahmegebühren: \n\n\n\nbSb-Mitglieder\n\n20 Euro\n\n\nIMA-Mitglieder\n\n35 Euro\n\n\nNichtmitglieder/Gäste\n\n45 Euro\n\n\n\n  \nWeitere Informationen/Anmeldemöglichkeiten: \nFlyer Office Day „Assistenz der Zukunft – Wohin bringt uns die Digitalisierung?“
URL:https://bsboffice.de/event/rg-duesseldorf-office-day-assistenz-der-zukunft-wohin-bringt-uns-die-digitalisierung/
LOCATION:Leonardo Royal Hotel Düsseldorf\, Graf-Adolf-Platz 8 - 10\, Düsseldorf\, 40213\, Demokratische Republik Kongo
CATEGORIES:Regionalgruppe Düsseldorf,Regionalgruppen
ORGANIZER;CN="RG D%C3%BCsseldorf":MAILTO:duesseldorf@bsb-office.de
END:VEVENT
BEGIN:VEVENT
DTSTART;TZID=UTC:20180227T180000
DTEND;TZID=UTC:20180227T200000
DTSTAMP:20260423T154039
CREATED:20180119T130720Z
LAST-MODIFIED:20180119T130745Z
UID:7291-1519754400-1519761600@bsboffice.de
SUMMARY:RG Rhein-Neckar: Führung durch das Briefzentrum Mannheim
DESCRIPTION:Wollten Sie auch schon einmal Mäuschen spielen? Unbeobachtet sein\, wenn spannende Dinge passieren\, die man sonst nie zu sehen bekommt? Mit der Deutschen Post können Sie jetzt einen Blick hinter die Kulissen des Briefversands werfen. \nNutzen Sie die Möglichkeit zu dieser einmaligen Führung durch ein Briefzentrum der Deutschen Post \n 
URL:https://bsboffice.de/event/rg-rhein-neckar-fuehrung-durch-das-briefzentrum-mannheim/
LOCATION:Briefzentrum\, Turbinenstraße 21\, Mannheim\, 68309\, Deutschland
CATEGORIES:Regionalgruppe Rhein-Neckar,Regionalgruppen
END:VEVENT
BEGIN:VEVENT
DTSTART;TZID=UTC:20180228T160000
DTEND;TZID=UTC:20180228T220000
DTSTAMP:20260423T154039
CREATED:20180115T094504Z
LAST-MODIFIED:20180124T092011Z
UID:7147-1519833600-1519855200@bsboffice.de
SUMMARY:RG Stuttgart: Office Day - Smart Office
DESCRIPTION:Liebe Kolleginnen\, \ndie Office Welt befindet sich im Wandel – Digitalisierung\, Co-Working Spaces und smarte Office Lösungen liegen voll im Trend. Unser Office Day bietet Ihnen die Möglichkeit\, in diese neue Welt einzutauchen. \nErwerben Sie außerdem smartes Wissen zur neuen EU-Datenschutzgrundverordnung\, die am 25.  Mai  2018 in Kraft tritt\, und profitieren Sie von cleveren Tipps zum Thema „Ergotraining am Arbeitsplatz“. Genießen Sie zum Abschluss ein professionelles Make-Up und Fashion Coaching für Ihren ganz persönlichen\, smarten Auftritt. \nSmart auf ganzer Linie…seien Sie gespannt! \nWir freuen uns auf Sie! \nWeitere Details erfahren Sie im beigefügten Flyer. \nBei Fragen stehen wir Ihnen sehr gerne zur Verfügung. \nMit freundlichen Grüßen\nSabrina Bardili und Monika Kruschwitz \n  \nEs wird eine zusätzliche Teilnahmegebühr erhoben
URL:https://bsboffice.de/event/rg-stuttgart-office-day-smart-office/
LOCATION:Design Offices Stuttgart Mitte\, Lautenschlagerstraße 23\, Stuttgart\, 70173
CATEGORIES:Regionalgruppe Stuttgart,Regionalgruppen
END:VEVENT
END:VCALENDAR