BEGIN:VCALENDAR
VERSION:2.0
PRODID:-// - ECPv6.15.19//NONSGML v1.0//EN
CALSCALE:GREGORIAN
METHOD:PUBLISH
X-ORIGINAL-URL:https://bsboffice.de
X-WR-CALDESC:Veranstaltungen für 
REFRESH-INTERVAL;VALUE=DURATION:PT1H
X-Robots-Tag:noindex
X-PUBLISHED-TTL:PT1H
BEGIN:VTIMEZONE
TZID:UTC
BEGIN:STANDARD
TZOFFSETFROM:+0000
TZOFFSETTO:+0000
TZNAME:UTC
DTSTART:20170101T000000
END:STANDARD
END:VTIMEZONE
BEGIN:VEVENT
DTSTART;TZID=UTC:20180301T170000
DTEND;TZID=UTC:20180301T220000
DTSTAMP:20260419T144904
CREATED:20180119T101048Z
LAST-MODIFIED:20180203T191027Z
UID:7281-1519923600-1519941600@bsboffice.de
SUMMARY:RG Chemnitz: Office Day im Rahmen der bSb Office Weeks
DESCRIPTION:bSb Office Weeks 2018  \nDonnerstag\, 1. März 2018\, 17 – 22 Uhr  \nTuffner Möbelgalerie in Chemnitz \nTraumhafte Aussichten – Mit.Dabei.Sein \nFür Office-Professionals & bSb-Gäste \nWo geht die Reise hin \nauf allen Etagen – Der Möbel.Galerie Tuffner www.tuffner.de \nVorträge / Aussteller / Catering \nOrt: Am Walkgraben 1\, 09119 Chemnitz \nWeitere Informationen finden Sie in unserem Veranstaltungsblatt \nAnmeldung bitte unter chemnitz@bsb-office.de
URL:https://bsboffice.de/event/rg-chemnitz-office-day-im-rahmen-der-bsb-office-weeks/
LOCATION:Möbelgalerie Tuffner\, Am Walkgraben 1\, Chemnitz\, 09119
CATEGORIES:Regionalgruppe Chemnitz
END:VEVENT
BEGIN:VEVENT
DTSTART;TZID=UTC:20180302T170000
DTEND;TZID=UTC:20180302T210000
DTSTAMP:20260419T144904
CREATED:20171212T155834Z
LAST-MODIFIED:20180126T115952Z
UID:6898-1520010000-1520024400@bsboffice.de
SUMMARY:RG Rhein-Neckar: Office Day 2018 - „Arbeit 4.0 – präventiv gestalten\, kompetent bewältigen“
DESCRIPTION:„Arbeit 4.0 – präventiv gestalten\, kompetent bewältigen“\nOffice Weeks mit Prof. Karlheinz Sonntag\, Arbeits- und Organisationspsychologe an der Universität Heidelberg \n17:00     Registrierung \n17:30     Eröffnung der Office Weeks 2018 \n17:45     Fachausstellung\, Imbiss\, Netzwerken \n19:00     Impulsvortrag  \n21:00     Ausklang \nAlle weiteren Informationen sowie unser Anmeldeformular finden Sie in unserem Flyer Office Day 2018 Rhein-Neckar \nUnser Referent: \nProf. Karlheinz Sonntag ist Leiter der Abteilung Arbeits- und Organisationspsychologie am Psychologischen Institut der Ruprecht-Karls-Universität Heidelberg. Die Schwerpunkte seiner Forschung liegen in der Bewältigung von Veränderungsprozessen\, der Personalentwicklung sowie im Kompetenz- und Gesundheitsmanagement. Er leitet unterschiedliche Forschungsprojekte\, unter anderem das vom BMBF geförderte Projekt MEgA (www.gesundearbeit-mega.de). \n 
URL:https://bsboffice.de/event/rg-rhein-neckar-office-day-2018/
LOCATION:Lindner Hotel & Spa Binshof\, Binshof 1\, Speyer\, 67346\, Deutschland
CATEGORIES:Regionalgruppe Rhein-Neckar,Regionalgruppen
END:VEVENT
BEGIN:VEVENT
DTSTART;TZID=UTC:20180305T160000
DTEND;TZID=UTC:20180305T211500
DTSTAMP:20260419T144904
CREATED:20171202T163609Z
LAST-MODIFIED:20180131T191442Z
UID:6874-1520265600-1520284500@bsboffice.de
SUMMARY:RG Berlin: Office Day mit Silke Nevermann und Thorsten Jekel - The digital office
DESCRIPTION:Ab 16:00 Uhr sind wir für Sie da! \nModeration: Silke Nevermann\, Office Concepts\, Hamburg \n  \n  \n\n\n\n16:00 Uhr\nHerzlich willkommen bei Snacks und Getränken\n\n\n\nLernen Sie unsere Aussteller und KollegInnen aus anderen Branchen kennen\n\n\n\n\n\n\n16:45 Uhr\nBegrüßung\n\n\n\nAdrienne Manteufel/Annerose Schmidt\, bSb Regionalleitung\n\n\n\nJanina Bachmann-Graffunder\, stellv. Vorstandsvorsitzende bSb\n\n\n\nBettina Sakaoglu\, Novotel Berlin Mitte\n\n\n\n\n\n\n16:55 Uhr\nInteraktiver Vortrag:\n\n\n\nDigital Assistants – digitale Kollegin oder Konkurrentin?\n\n\n\nSilke Nevermannn\n\n\n\n\n\n\n18:30 Uhr\nImbiss mit kalten und warmen Snacks\n\n\n\nBesuch der Fachausstellung\n\n\n\nZeit zum Austausch mit Berufskolleginnen und -kollegen\n\n\n\n\n\n\n19:30 Uhr\nInteraktiver Vortrag:\n\n\n\nVom digitalen Frust zur digitalen Lust\n\n\n\nThorsten Jekel\n\n\n\n  \nCa. 21:15 Uhr Ausklang \nAlle weiteren Informationen sowie unser Anmeldeformular finden Sie in unserem Flyer. \nNutzen Sie unseren attraktiven Frühbucherrabatt bei Anmeldung bis zum 11. Februar 2018 \nUnsere Referenten: \n\n\n\n\nSilke Nevermann ist Inhaberin von Office Concepts und ausgebildete Lean Office Masterin und Digital Transformation Managerin und verfügt über mehr als 20 Jahre Berufserfahrung als Büroleitung in den Top-Führungsetagen internationaler Konzerne in Deutschland und in der Schweiz. Seit 2015 berät und unterstützt sie Unternehmen jeder Größenordnung\, mit effizienten und modernen Strukturen im Büro mehr Zeit für das eigentliche Geschäft zu gewinnen. Als Expertin für effizientes Büromanagement der Zukunft nimmt sie regelmäßig an Expertenrunden teil\, moderiert Kongresse und Veranstaltungen und gibt Trainings und Impulsvorträge zu allen Themen rund um ‚Effiziente Büroorganisation’ und ‚Arbeit der Zukunft’. \nwww.office-concepts.hamburg\n\n\n\nAls IT-Unternehmer\, Autor und Speaker ist der Betriebswirt und MBA Thorsten Jekel DER Experte für Digital Working. Aus seiner über 25-jährigen Berufserfahrung im Vertrieb\, in der Service- und IT-Projektverantwortung sowie als langjähriger Geschäftsführer im Mittelstand spricht er aus der Praxis\, für die Praxis. Seit 2010 unterstützt Thorsten Jekel Menschen und Unternehmen bei der produktiven Nutzung neuer IT-Technologien. So begleitete er beispielsweise Coca-Cola\, Trangourmet (REWE-Foodservice) und die Sparkassen-versicherung bei der erfolgreichen Einführung von bis zu 1.700 iPads im Vertrieb. Als gefragter Sparringspartner von Geschäftsführern\, Vorständen und Unternehmern zeigt er in seinen praxisnahen und visionären Vorträgen auf\, wie Sie Digital Working Technologien für sich optimal nutzen. \nwww.jekelteam.de\n\n\n\n 
URL:https://bsboffice.de/event/berlin-office-day-smart-office/
LOCATION:novotel Berlin Mitte\, Fischerinsel 12\, Berlin\, 10179\, Deutschland
CATEGORIES:Regionalgruppe Berlin
ORGANIZER;CN="Regionalgruppe Berlin":MAILTO:berlin@bsboffice.de
END:VEVENT
BEGIN:VEVENT
DTSTART;TZID=UTC:20180307T180000
DTEND;TZID=UTC:20180307T210000
DTSTAMP:20260419T144904
CREATED:20180102T143237Z
LAST-MODIFIED:20180102T143237Z
UID:7011-1520445600-1520456400@bsboffice.de
SUMMARY:RG Hannover: bSb Office Weeks 2018
DESCRIPTION:Im Rahmen der bundesweiten bSb Office Weeks zum Thema Digitalisierung und Smart Office erhalten Sie für diesen Termin eine separate Einladung. \n  \n 
URL:https://bsboffice.de/event/rg-hannover-bsb-office-weeks-2018/
CATEGORIES:Regionalgruppe Hannover,Regionalgruppen
ORGANIZER;CN="Regionalgruppe Hannover":MAILTO:hannover@bsb-office.de
END:VEVENT
BEGIN:VEVENT
DTSTART;TZID=UTC:20180312T190000
DTEND;TZID=UTC:20180312T203000
DTSTAMP:20260419T144904
CREATED:20171212T160030Z
LAST-MODIFIED:20180126T120410Z
UID:6901-1520881200-1520886600@bsboffice.de
SUMMARY:RG Rhein-Neckar: Effizienz-Rezepte - Arbeit automatisieren
DESCRIPTION:Effizienz-Rezepte – Arbeit automatisieren\nReferentin: Claudia von Wilmsdorff\, Fachtautorin und Trainerin \nProgramm: überwiegend Word\, eine Prise Outlook. Feldarbeit: immer das richtige Datum im Dokument\, Schnellbausteine im Büroalltag (nicht nur Text\, sondern auch Tabellen\, Kopf-und Fußzeilen\, Deckblättern etc.)\, ein erstes Makro erstellen. \nWir treffen uns um 17:30 im Restaurant des Hotels zum Netzwerken beim gemeinsamen Abendessen (Selbstzahler). \nKosten: für Mitglieder kostenfrei\, Interessentinnen zahlen 25\,– Euro \nAnmeldungen unter rhein-neckar@bsb-office.de \n  \n 
URL:https://bsboffice.de/event/rg-rhein-neckar-effizienz-rezepte-arbeit-automatisieren/
LOCATION:Maritim Hotel Mannheim\, Friedrichsplatz 2\, Mannheim\, Baden-Württemberg\, 68165\, Deutschland
CATEGORIES:Regionalgruppe Rhein-Neckar,Regionalgruppen
END:VEVENT
BEGIN:VEVENT
DTSTART;TZID=UTC:20180313T160000
DTEND;TZID=UTC:20180313T210000
DTSTAMP:20260419T144904
CREATED:20180302T195620Z
LAST-MODIFIED:20180302T201059Z
UID:7498-1520956800-1520974800@bsboffice.de
SUMMARY:RG Gifhorn-Wolfsburg-Braunschweig: Office Day 2018
DESCRIPTION:Programm \n  \n16:30 Uhr  „Check in“ \nEintreffen der Teilnehmer \nRegistrierung \n17:00 Uhr  Eröffnung Office Weeks 2018 \nBesuch der Fachausstellung \nFinger-Food-Buffet \nGet-together \n17:45 Uhr  Vortrag EU-DSGVO \nDie neue Datenschutzgrundverordnung ab 25.05.2018 – Was ändert sich? \nReferent: Rudolf Meister\, Firma HSM GmbH + Co. KG \n18:30 Uhr  Vitalpause mit Snacks & Drinks \nBesuch der Fachausstellung \nNetzwerken \n19:00 Uhr  Impulsvortrag mit Workshop \nWas zeichnet erfolgreiche Business Frauen aus? Wie komme ich selbst zu mehr Erfolg in meinem Business? Hindernisse identifizieren; Pragmatische und effiziente Lösungsansätze finden \nReferentin: Petra Mersmann-Dunkel\, Leitung Personal- und Organisationsentwicklung; Leitung Ausbildungszentrum; Organisationsberaterin und Coach \nEEW Energy from Waste GmbH \n21:00 Uhr Ende der Veranstaltung \n  \nAlles weitere finden Sie in unserem Office Day Flyer
URL:https://bsboffice.de/event/7498/
LOCATION:Best Western Premier Hotel Alte Mühle\, Wolfsburger Straße 72\, Weyhausen\, 38554\, Deutschland
CATEGORIES:Regionalgruppe Gifhorn
ORGANIZER;CN="bsb Regionalgruppe Gifhorn-Wolfsburg-Braunschweig":MAILTO:gifhorn@bsb-office.de
END:VEVENT
BEGIN:VEVENT
DTSTART;TZID=UTC:20180313T180000
DTEND;TZID=UTC:20180313T210000
DTSTAMP:20260419T144904
CREATED:20180126T121623Z
LAST-MODIFIED:20180126T121623Z
UID:7364-1520964000-1520974800@bsboffice.de
SUMMARY:RG Saarbrücken: Umgang mit schwierigen Kunden
DESCRIPTION:Umgang mit schwierigen Kunden \nein Vortrag von Yasmin Hassan \n18:00 Uhr gemeinsames Abendessen \n19:00 Uhr Beginn des Vortrages \nAnmeldung: saar@bsb-office.de
URL:https://bsboffice.de/event/rg-saarbruecken-umgang-mit-schwierigen-kunden/
LOCATION:Hotel Mercure Saarbrücken Süd\, Zinzinger Straße 9\, Saarbrücken\, Saarbrücken\, 66117\, Deutschland
CATEGORIES:Regionalgruppe Saar,Regionalgruppen
END:VEVENT
BEGIN:VEVENT
DTSTART;TZID=UTC:20180313T190000
DTEND;TZID=UTC:20180313T210000
DTSTAMP:20260419T144904
CREATED:20171219T145609Z
LAST-MODIFIED:20180115T101446Z
UID:6946-1520967600-1520974800@bsboffice.de
SUMMARY:RG Ruhrgebiet: Gesprächsführung in Konfliktsituationen
DESCRIPTION:Referentin: Rosemarie Rehbein \nVorher treffen sich die bSb-Mitglieder und Gäste ab 17:30 Uhr zum Netzwerken bei einem Imbiss (Selbstzahler) im Foyer oder in der Tagesbar des Hotels.
URL:https://bsboffice.de/event/rg-ruhrgebiet-gespraechsfuehrung-in-konfliktsituationen/
LOCATION:IntercityHotel Essen\, Hachestraße 10\, Essen\, 45127\, Deutschland
CATEGORIES:Regionalgruppe Ruhrgebiet,Regionalgruppen
END:VEVENT
BEGIN:VEVENT
DTSTART;TZID=UTC:20180315T180000
DTEND;TZID=UTC:20180315T210000
DTSTAMP:20260419T144904
CREATED:20180115T094838Z
LAST-MODIFIED:20180115T094838Z
UID:7149-1521136800-1521147600@bsboffice.de
SUMMARY:RG Stuttgart: Jahresversammlung nur für bSb-Mitglieder
DESCRIPTION:
URL:https://bsboffice.de/event/rg-stuttgart-jahresversammlung-nur-fuer-bsb-mitglieder/
LOCATION:MARITIM Hotel Stuttgart\, Seidenstraße 34\, Stuttgart\, 70174\, Deutschland
CATEGORIES:Regionalgruppe Stuttgart,Regionalgruppen
END:VEVENT
BEGIN:VEVENT
DTSTART;TZID=UTC:20180317T090000
DTEND;TZID=UTC:20180317T120000
DTSTAMP:20260419T144904
CREATED:20180109T095534Z
LAST-MODIFIED:20180109T095534Z
UID:7068-1521277200-1521288000@bsboffice.de
SUMMARY:RG Dresden: Netzwerken beim Brunch
DESCRIPTION:Anmeldungen bis zum 05.03.2018 an dresden@bsb-office.de
URL:https://bsboffice.de/event/rg-dresden-netzwerken-beim-brunch/
LOCATION:Alex am Schloss\, Schloßstraße 7 - 9\, Dresden\, 01067
CATEGORIES:Regionalgruppe Dresden,Regionalgruppen
END:VEVENT
BEGIN:VEVENT
DTSTART;TZID=UTC:20180321T190000
DTEND;TZID=UTC:20180321T210000
DTSTAMP:20260419T144904
CREATED:20180120T172055Z
LAST-MODIFIED:20180120T172055Z
UID:7307-1521658800-1521666000@bsboffice.de
SUMMARY:RG Frankfurt: Schwarze Rhetorik - Manipulation erkennen und souverän meistern
DESCRIPTION:Schwarze Rhetorik – Manipulation erkennen und souverän meistern \nAnmeldung: frankfurt@bsb-office.de
URL:https://bsboffice.de/event/rg-frankfurt-schwarze-rhetorik-manipulation-erkennen-und-souveraen-meistern/
LOCATION:Novotel Frankfurt City\, Lise-Meitner-Straße 2\, Frankfurt\, 60486\, Deutschland
CATEGORIES:Regionalgruppe Frankfurt,Regionalgruppen
END:VEVENT
BEGIN:VEVENT
DTSTART;TZID=UTC:20180324T100000
DTEND;TZID=UTC:20180324T130000
DTSTAMP:20260419T144904
CREATED:20180115T095125Z
LAST-MODIFIED:20180115T095125Z
UID:7151-1521885600-1521896400@bsboffice.de
SUMMARY:RG Stuttgart: Raus aus dem Winterschlaf - Mentales Coaching
DESCRIPTION:Mentales Coaching mit Abschlussmeditation in der Solino Salzgrotte \nReferent: Ralf Tiemann \nEs wird eine zusätzliche Teilnahmegebühr erhoben
URL:https://bsboffice.de/event/rg-stuttgart-raus-aus-dem-winterschlaf-mentales-coaching/
LOCATION:Solino Salzgrotte\, Weberstraße 20\, Nürtingen\, 72622
CATEGORIES:Regionalgruppe Stuttgart,Regionalgruppen
END:VEVENT
END:VCALENDAR