BEGIN:VCALENDAR
VERSION:2.0
PRODID:-// - ECPv6.15.19//NONSGML v1.0//EN
CALSCALE:GREGORIAN
METHOD:PUBLISH
X-ORIGINAL-URL:https://bsboffice.de
X-WR-CALDESC:Veranstaltungen für 
REFRESH-INTERVAL;VALUE=DURATION:PT1H
X-Robots-Tag:noindex
X-PUBLISHED-TTL:PT1H
BEGIN:VTIMEZONE
TZID:UTC
BEGIN:STANDARD
TZOFFSETFROM:+0000
TZOFFSETTO:+0000
TZNAME:UTC
DTSTART:20190101T000000
END:STANDARD
END:VTIMEZONE
BEGIN:VEVENT
DTSTART;TZID=UTC:20201005T180000
DTEND;TZID=UTC:20201005T200000
DTSTAMP:20260423T144219
CREATED:20200107T101433Z
LAST-MODIFIED:20200107T101433Z
UID:9210-1601920800-1601928000@bsboffice.de
SUMMARY:RG Dresden: Jahresversammlung
DESCRIPTION:exklusiv für Mitglieder der Regionalgruppe
URL:https://bsboffice.de/event/rg-dresden-jahresversammlung-2/
CATEGORIES:Regionalgruppe Dresden,Regionalgruppen
END:VEVENT
BEGIN:VEVENT
DTSTART;TZID=UTC:20201005T180000
DTEND;TZID=UTC:20201005T210000
DTSTAMP:20260423T144219
CREATED:20200920T212727Z
LAST-MODIFIED:20200920T212727Z
UID:10516-1601920800-1601931600@bsboffice.de
SUMMARY:RG Saar: Beobachten statt Bewerten
DESCRIPTION:Referentin: Constanze Trojahn \n18:00 Uhr Treffen im Hotel Mercure Saarbrücken Süd zum gemeinsamen Abendessen\n19 Uhr Beginn Vortrag
URL:https://bsboffice.de/event/rg-saar-beobachten-statt-bewerten-2/
CATEGORIES:Regionalgruppe Saar,Regionalgruppen
END:VEVENT
BEGIN:VEVENT
DTSTART;TZID=UTC:20201007T190000
DTEND;TZID=UTC:20201007T203000
DTSTAMP:20260423T144219
CREATED:20200823T220037Z
LAST-MODIFIED:20200823T220037Z
UID:10490-1602097200-1602102600@bsboffice.de
SUMMARY:RG Rhein-Neckar: Wie man seine "Elefanten" führt (via ZOOM)
DESCRIPTION:Den Chef („äußerer Elefant“) und sich Selbst („innerer Elefant“) und was das eine mit dem anderen zu tun hat.\n\nReferent: Dr. Markus Schoor
URL:https://bsboffice.de/event/rg-rhein-neckar-wie-man-seine-elefanten-fuehrt-via-zoom/
CATEGORIES:Regionalgruppe Rhein-Neckar
END:VEVENT
BEGIN:VEVENT
DTSTART;TZID=UTC:20201008T190000
DTEND;TZID=UTC:20201008T203000
DTSTAMP:20260423T144219
CREATED:20200920T205737Z
LAST-MODIFIED:20200920T210304Z
UID:10505-1602183600-1602189000@bsboffice.de
SUMMARY:RG Frankfurt: Flexibles Arbeiten & Arbeitszeit - Corona macht's möglich? (via ZOOM)
DESCRIPTION:Referent: Rechtsanwalt Dr. Michael Engesser
URL:https://bsboffice.de/event/rg-frankfurt-online-flexibles-arbeiten-arbeitszeit-corona-machts-moeglich/
CATEGORIES:Regionalgruppe Frankfurt,Regionalgruppen
END:VEVENT
BEGIN:VEVENT
DTSTART;TZID=UTC:20201013T173000
DTEND;TZID=UTC:20201013T200000
DTSTAMP:20260423T144219
CREATED:20200823T205205Z
LAST-MODIFIED:20200823T205205Z
UID:10479-1602610200-1602619200@bsboffice.de
SUMMARY:RG Ruhrgebiet: Lebenswerte Werte in Corona-Zeiten...
DESCRIPTION:Referent: Wulf-Hinnerk Vauk
URL:https://bsboffice.de/event/rg-ruhrgebiet-lebenswerte-werte-in-corona-zeiten/
LOCATION:IntercityHotel Essen\, Hachestraße 10\, Essen\, 45127\, Deutschland
CATEGORIES:Regionalgruppe Ruhrgebiet
END:VEVENT
BEGIN:VEVENT
DTSTART;TZID=UTC:20201013T190000
DTEND;TZID=UTC:20201013T210000
DTSTAMP:20260423T144219
CREATED:20200303T143653Z
LAST-MODIFIED:20200303T143653Z
UID:9415-1602615600-1602622800@bsboffice.de
SUMMARY:RG Köln: Sichtbar mehr Wertschätzung
DESCRIPTION:Referentin: Karin Knecht\nVeranstaltungsort: Hotel Maritim\, Heumarkt
URL:https://bsboffice.de/event/rg-koeln-sichtbar-mehr-wertschaetzung/
CATEGORIES:Regionalgruppe Köln,Regionalgruppen
END:VEVENT
BEGIN:VEVENT
DTSTART;TZID=UTC:20201021T180000
DTEND;TZID=UTC:20201021T210000
DTSTAMP:20260423T144219
CREATED:20200920T214137Z
LAST-MODIFIED:20200920T214207Z
UID:10521-1603303200-1603314000@bsboffice.de
SUMMARY:RG Stuttgart: Home-office
DESCRIPTION:Referentin: Rositta Beck \nGemeinsames Essen vorab um 18:00 Uhr\, Treffpunkt: Restaurant Carpe Diem\, Küferstr. 10\, 73728 Esslingen a. N.
URL:https://bsboffice.de/event/rg-stuttgart-home-office/
LOCATION:Work-IN.SHOP\, Küferstr. 8\, Esslingen a. N.\, 73728
CATEGORIES:Regionalgruppe Stuttgart,Regionalgruppen
END:VEVENT
BEGIN:VEVENT
DTSTART;TZID=UTC:20201027T190000
DTEND;TZID=UTC:20201027T203000
DTSTAMP:20260423T144219
CREATED:20200109T084543Z
LAST-MODIFIED:20200920T210343Z
UID:9260-1603825200-1603830600@bsboffice.de
SUMMARY:RG Frankfurt: Finanzielle Vorsorge - vorzeitig in Rente (via ZOOM)
DESCRIPTION:Referentin: Elke Scholz-Krause
URL:https://bsboffice.de/event/rg-frankfurt-finanzielle-vorsorge-vorzeitig-in-rente/
CATEGORIES:Regionalgruppe Frankfurt,Regionalgruppen
ORGANIZER;CN="RG Frankfurt":MAILTO:frankfurt@bsboffice.de
END:VEVENT
BEGIN:VEVENT
DTSTART;TZID=UTC:20201028T180000
DTEND;TZID=UTC:20201028T210000
DTSTAMP:20260423T144219
CREATED:20200821T115358Z
LAST-MODIFIED:20200821T120458Z
UID:10461-1603908000-1603918800@bsboffice.de
SUMMARY:RG Hannover: bSb-Partnertag: Lebkuchen Schmidt ist wieder zu Gast in Hannover
DESCRIPTION:bSb-Partnertag: Lebkuchen Schmidt ist wieder zu Gast in Hannover und stellt den Lebkuchen des Jahres und viele Neuigkeiten vor. \nLassen Sie sich diesen Abend in geselliger Runde zum Netzwerken nicht entgehen. \nVeranstaltungsort: \nRestaurant „Da Lello“\,\nMarienstraße 5 \n30171 Hannover \nFragen an: \n\nGabriela Drath \n  \n\nWera Pinz \nLeiterinnen \nhannover@bsb-office.de \n  \nAufgrund der Corona-Krise: Augenblicklich keine verbindlichen Termine – gegebenenfalls finden Vorträge nicht als Präsenzveranstaltung statt\, sondern als „Zoom-Meeting“.
URL:https://bsboffice.de/event/rg-hannover-bsb-partnertag-lebkuchen-schmidt-ist-wieder-zu-gast-in-hannover/
LOCATION:Restaurant „Da Lello“\, Marienstrasse 5 \, Hannover \, 30171\, Deutschland
CATEGORIES:Regionalgruppe Hannover,Regionalgruppen
ORGANIZER;CN="Regionalgruppe Hannover":MAILTO:hannover@bsb-office.de
END:VEVENT
END:VCALENDAR