BEGIN:VCALENDAR
VERSION:2.0
PRODID:-// - ECPv6.15.19//NONSGML v1.0//EN
CALSCALE:GREGORIAN
METHOD:PUBLISH
X-ORIGINAL-URL:https://bsboffice.de
X-WR-CALDESC:Veranstaltungen für 
REFRESH-INTERVAL;VALUE=DURATION:PT1H
X-Robots-Tag:noindex
X-PUBLISHED-TTL:PT1H
BEGIN:VTIMEZONE
TZID:UTC
BEGIN:STANDARD
TZOFFSETFROM:+0000
TZOFFSETTO:+0000
TZNAME:UTC
DTSTART:20200101T000000
END:STANDARD
END:VTIMEZONE
BEGIN:VEVENT
DTSTART;TZID=UTC:20210112T190000
DTEND;TZID=UTC:20210112T203000
DTSTAMP:20260421T214026
CREATED:20210110T101214Z
LAST-MODIFIED:20210110T101214Z
UID:10699-1610478000-1610483400@bsboffice.de
SUMMARY:RG Rhein-Neckar: Jahresversammlung (via ZOOM)
DESCRIPTION:– nur für Mitglieder –
URL:https://bsboffice.de/event/rg-rhein-neckar-jahresversammlung-via-zoom/
CATEGORIES:Regionalgruppe Rhein-Neckar,Regionalgruppen
END:VEVENT
BEGIN:VEVENT
DTSTART;TZID=UTC:20210119T184500
DTEND;TZID=UTC:20210119T204500
DTSTAMP:20260421T214026
CREATED:20210107T070053Z
LAST-MODIFIED:20210110T100020Z
UID:10681-1611081900-1611089100@bsboffice.de
SUMMARY:RG Köln: Digitaler arbeiten – so klappt´s! (via ZOOM)
DESCRIPTION:Referentin: Claudia von Wilmsdorff \n  \nDer fortschreitende Wandel erfordert es\, eingefahrene Routinen laufend zu überprüfen und manche Arbeitsweise zu updaten. \nVor allem die PC-Software enthält immer wieder neu hinzugekommene Funktionen\, die helfen\, den Büro-Alltag zu optimieren. \nDoch viele aktuelle oder auch ältere Werkzeuge werden übersehen und liegen brach. \nIn diesem online-Workshop stöbern wir verschiedene Tools auf\, mit denen Sie produktiver werden\, digitaler vorankommen und sich die Arbeit erleichtern. \n  \nClaudia von Wilmsdorff ist gefragte Trainerin und Fachautorin zu Computer- und Office-Themen. Ihre praxisnahen Beiträge\, die regelmäßig in verschiedenen Fachzeitschriften erscheinen\, schätzen viele. \nSeit 1993 arbeitet sie als Trainerin und bereichert den digitalen Alltag ihrer Seminarbesucher mit erprobten\, oft verblüffend einfachen Tipps und Techniken\, die direkt anzuwenden sind. \nMehr Informationen unter www.von-wilmsdorff.com \n 
URL:https://bsboffice.de/event/rg-koeln-digitaler-arbeiten-so-klappts-via-zoom/
CATEGORIES:Regionalgruppe Köln,Regionalgruppen
END:VEVENT
BEGIN:VEVENT
DTSTART;TZID=UTC:20210120T190000
DTEND;TZID=UTC:20210120T210000
DTSTAMP:20260421T214026
CREATED:20210225T101530Z
LAST-MODIFIED:20210225T103237Z
UID:10842-1611169200-1611176400@bsboffice.de
SUMMARY:RG Hannover: Jahresversammlung (via ZOOM)
DESCRIPTION:– nur für Mitglieder –
URL:https://bsboffice.de/event/rg-hannover-jahresversammlung-via-zoom/
CATEGORIES:Regionalgruppe Hannover,Regionalgruppen
ORGANIZER;CN="Regionalgruppe Hannover":MAILTO:hannover@bsb-office.de
END:VEVENT
BEGIN:VEVENT
DTSTART;TZID=UTC:20210121T180000
DTEND;TZID=UTC:20210121T210000
DTSTAMP:20260421T214026
CREATED:20210105T153548Z
LAST-MODIFIED:20210105T162857Z
UID:10658-1611252000-1611262800@bsboffice.de
SUMMARY:2. bSb Online Kongress auf Zoom
DESCRIPTION:Unser Office Forum am 21. November 2020 in Dresden wurde – wie Sie wissen – wiederum verschoben. Die Referentinnen Diana Brandl und Enisa Romanic mussten leider für den neuen Termin – 11. Juni 2021 in Leipzig – absagen.\nUm Ihnen aber die interessanten Inhalte der Workshops nicht vorzuenthalten\, bieten wir Ihnen diese nun am 21. Januar 2021\, 18:00 bis 21:00 Uhr auf Zoom an. Es erwarten Sie zweimal 1\,5 Stunden mit geballtem Input dieser beiden hochkompetenten Referentinnen – seien Sie dabei und melden sich sofort an! \n  \nMehr Informationen zum Programm und Ablauf am 21. Januar 2021\, 18:00 bis 21:00 Uhr auf Zoom \nProgramm und Ablauf\n  \nAnmeldung zum 2. bSb Online-Kongress auf XING \nhttps://www.xing.com/events/3228591
URL:https://bsboffice.de/event/2-bsb-online-kongress-auf-zoom/
LOCATION:Zoom
CATEGORIES:bSb-Termine Bundesverband
ORGANIZER;CN="bSb Bundesverband Sekretariat und B%C3%BCromanagement e. V.":MAILTO:info@bsboffice.de
END:VEVENT
BEGIN:VEVENT
DTSTART;TZID=UTC:20210125T180000
DTEND;TZID=UTC:20210125T190000
DTSTAMP:20260421T214026
CREATED:20210113T123529Z
LAST-MODIFIED:20210113T123529Z
UID:10719-1611597600-1611601200@bsboffice.de
SUMMARY:RG Stuttgart: Vortrag "Büro-Effizienz" (via ZOOM)
DESCRIPTION:Referentin: Rositta Beck
URL:https://bsboffice.de/event/rg-stuttgart-vortrag-buero-effizienz-via-zoom/
CATEGORIES:Regionalgruppe Stuttgart,Regionalgruppen
END:VEVENT
BEGIN:VEVENT
DTSTART;TZID=UTC:20210125T193000
DTEND;TZID=UTC:20210125T210000
DTSTAMP:20260421T214026
CREATED:20210113T123740Z
LAST-MODIFIED:20210113T123859Z
UID:10721-1611603000-1611608400@bsboffice.de
SUMMARY:RG Stuttgart: Jahresversammlung (via ZOOM)
DESCRIPTION:– nur für Mitglieder –
URL:https://bsboffice.de/event/rg-stuttgart-jahresversammlung-via-zoom/
CATEGORIES:Regionalgruppe Stuttgart,Regionalgruppen
END:VEVENT
BEGIN:VEVENT
DTSTART;TZID=UTC:20210126T190000
DTEND;TZID=UTC:20210126T210000
DTSTAMP:20260421T214026
CREATED:20210121T085301Z
LAST-MODIFIED:20210121T085352Z
UID:10745-1611687600-1611694800@bsboffice.de
SUMMARY:RG Düsseldorf: Vortrag und Jahresversammlung (via ZOOM)
DESCRIPTION:– nur für Mitglieder – \nReferentin: Maria Schlicker
URL:https://bsboffice.de/event/rg-duesseldorf-vortrag-und-jahresversammlung/
CATEGORIES:Regionalgruppe Düsseldorf,Regionalgruppen
END:VEVENT
BEGIN:VEVENT
DTSTART;TZID=UTC:20210127T190000
DTEND;TZID=UTC:20210127T203000
DTSTAMP:20260421T214026
CREATED:20210116T233449Z
LAST-MODIFIED:20210116T233449Z
UID:10728-1611774000-1611779400@bsboffice.de
SUMMARY:RG Frankfurt: Resilienz – Die eigenen Stärken entdecken und nutzen (via ZOOM)
DESCRIPTION:Referentin: Vanessa Vetter
URL:https://bsboffice.de/event/rg-frankfurt-resilienz-die-eigenen-staerken-entdecken-und-nutzen-via-zoom/
LOCATION:Zoom
CATEGORIES:Regionalgruppe Frankfurt,Regionalgruppen
END:VEVENT
BEGIN:VEVENT
DTSTART;TZID=UTC:20210129T180000
DTEND;TZID=UTC:20210129T193000
DTSTAMP:20260421T214026
CREATED:20210124T191157Z
LAST-MODIFIED:20210124T191157Z
UID:10758-1611943200-1611948600@bsboffice.de
SUMMARY:RG Saar: Jahresversammlung 2021 (via ZOOM)
DESCRIPTION:-nur Mitglieder der RG Saar-
URL:https://bsboffice.de/event/rg-saar-jahresversammlung-2021-via-zoom/
LOCATION:Zoom
CATEGORIES:Regionalgruppe Saar,Regionalgruppen
END:VEVENT
END:VCALENDAR