BEGIN:VCALENDAR
VERSION:2.0
PRODID:-// - ECPv6.15.19//NONSGML v1.0//EN
CALSCALE:GREGORIAN
METHOD:PUBLISH
X-ORIGINAL-URL:https://bsboffice.de
X-WR-CALDESC:Veranstaltungen für 
REFRESH-INTERVAL;VALUE=DURATION:PT1H
X-Robots-Tag:noindex
X-PUBLISHED-TTL:PT1H
BEGIN:VTIMEZONE
TZID:UTC
BEGIN:STANDARD
TZOFFSETFROM:+0000
TZOFFSETTO:+0000
TZNAME:UTC
DTSTART:20200101T000000
END:STANDARD
END:VTIMEZONE
BEGIN:VEVENT
DTSTART;TZID=UTC:20210408T000000
DTEND;TZID=UTC:20210408T000000
DTSTAMP:20260421T145804
CREATED:20210408T124309Z
LAST-MODIFIED:20210408T124309Z
UID:10891-1617840000-1617840000@bsboffice.de
SUMMARY:RG Düsseldorf: Moderne Kommunikation und die neue DIN 5008 (via ZOOM oder hybrid)
DESCRIPTION:Referentin: Antje Barmeyer\, Inhaberin analyse-beratung-training
URL:https://bsboffice.de/event/rg-duesseldorf-moderne-kommunikation-und-die-neue-din-5008-via-zoom-oder-hybrid/
END:VEVENT
BEGIN:VEVENT
DTSTART;TZID=UTC:20210412T180000
DTEND;TZID=UTC:20210412T200000
DTSTAMP:20260421T145804
CREATED:20210408T123536Z
LAST-MODIFIED:20210408T123536Z
UID:11009-1618250400-1618257600@bsboffice.de
SUMMARY:RG Dresden: DIN 5008-Webinar (via ZOOM)
DESCRIPTION:Referentin: Rosemarie Rehbein
URL:https://bsboffice.de/event/rg-dresden-din-5008-webinar-via-zoom/
CATEGORIES:Regionalgruppe Dresden,Regionalgruppen
ORGANIZER;CN="Regionalgruppe Dresden":MAILTO:dresden@bsboffice.de
END:VEVENT
BEGIN:VEVENT
DTSTART;TZID=UTC:20210413T190000
DTEND;TZID=UTC:20210413T210000
DTSTAMP:20260421T145804
CREATED:20210406T132213Z
LAST-MODIFIED:20210406T132213Z
UID:11001-1618340400-1618347600@bsboffice.de
SUMMARY:RG Ruhrgebiet: Netzwerktreffen (via ZOOM)
DESCRIPTION:– nur für Mitglieder –
URL:https://bsboffice.de/event/rg-ruhrgebiet-netzwerktreffen-via-zoom/
CATEGORIES:Regionalgruppe Ruhrgebiet,Regionalgruppen
END:VEVENT
BEGIN:VEVENT
DTSTART;TZID=UTC:20210414T190000
DTEND;TZID=UTC:20210414T210000
DTSTAMP:20260421T145804
CREATED:20210130T133505Z
LAST-MODIFIED:20210408T123905Z
UID:10790-1618426800-1618434000@bsboffice.de
SUMMARY:RG Düsseldorf: Augentraining: Wellness für die Augen (via ZOOM)
DESCRIPTION:Heike Zeitler\, Inhaberin Qualität & Service
URL:https://bsboffice.de/event/rg-duesseldorf-augentraining-wellness-fuer-die-augen/
CATEGORIES:Regionalgruppe Düsseldorf,Regionalgruppen
ORGANIZER;CN="RG D%C3%BCsseldorf":MAILTO:duesseldorf@bsb-office.de
END:VEVENT
BEGIN:VEVENT
DTSTART;TZID=UTC:20210415T190000
DTEND;TZID=UTC:20210415T203000
DTSTAMP:20260421T145804
CREATED:20210226T171752Z
LAST-MODIFIED:20210226T171752Z
UID:10885-1618513200-1618518600@bsboffice.de
SUMMARY:RG Köln: Alles in Ordnung - Büroorganisation leicht gemacht (via ZOOM)
DESCRIPTION:Referentin: Susanne Siekmeier
URL:https://bsboffice.de/event/rg-koeln-alles-in-ordnung-bueroorganisation-leicht-gemacht-via-zoom/
CATEGORIES:Regionalgruppe Köln,Regionalgruppen
END:VEVENT
BEGIN:VEVENT
DTSTART;TZID=UTC:20210419T190000
DTEND;TZID=UTC:20210419T203000
DTSTAMP:20260421T145804
CREATED:20210116T234635Z
LAST-MODIFIED:20210411T145926Z
UID:10734-1618858800-1618864200@bsboffice.de
SUMMARY:RG Frankfurt: Assistenz als Markenbotschafter*in (via ZOOM)
DESCRIPTION:Referent: Philipp Spittel-Nielszarski
URL:https://bsboffice.de/event/rg-frankfurt-assistenz-als-markenbotschafterin-via-zoom/
LOCATION:Zoom
CATEGORIES:Regionalgruppe Frankfurt,Regionalgruppen
END:VEVENT
BEGIN:VEVENT
DTSTART;TZID=UTC:20210419T190000
DTEND;TZID=UTC:20210419T203000
DTSTAMP:20260421T145804
CREATED:20210304T145806Z
LAST-MODIFIED:20210311T184556Z
UID:10914-1618858800-1618864200@bsboffice.de
SUMMARY:RG Rhein-Neckar: Buchlesung (via ZOOM)
DESCRIPTION:Autor: Jürgen Esserer \nScheiß auf Plan B – Die Kunst den eigenen Weg zu gehen  \nIn diesem Buch wird mit klar verständlichen Beispielen gezeigt\, was abseits von mehr Gewinn\, mehr Kunden\, mehr Geld liegen sollte\, um mit zukünftigen Entscheidungen wirklich glücklich zu werden. Außerdem räumt der Autor mit klassischen Coaching-Mythen auf\, die sehr oft im Weg stehen\, wenn es um den persönlichen Erfolg geht.\nJürgen Eisserer übersetzt die Erkenntnisse bekannter Unternehmer\, Profisportler und brillanter Kommunikatoren der Vergangenheit in einfach verständliche Beispiele und führt sie mit manch provokanter These zusammen. Damit soll den Lesern klar und unverblümt die Augen geöffnet werden für Fragen\, auf die manche glaubten schon immer die Antwort zu wissen.\nGanz ohne Pseudoweisheiten oder Motivations-Phrasen\, sondern klare Praxisbeispiele und rasch umsetzbare Lösungsweg
URL:https://bsboffice.de/event/rg-rhein-neckar-buchlesung-via-zoom/
CATEGORIES:Regionalgruppe Rhein-Neckar,Regionalgruppen
END:VEVENT
BEGIN:VEVENT
DTSTART;TZID=UTC:20210421T180000
DTEND;TZID=UTC:20210421T200000
DTSTAMP:20260421T145804
CREATED:20210225T102623Z
LAST-MODIFIED:20210225T102853Z
UID:10848-1619028000-1619035200@bsboffice.de
SUMMARY:RG Hannover: Cyberkriminalität und Prävention
DESCRIPTION:Referent: Carsten Fischer\, Dezernat 38LKA\nZentrale Ansprechstelle für Cybercrime (ZAC)
URL:https://bsboffice.de/event/rg-hannover-cyberkriminalitaet-und-praevention-2/
LOCATION:Restaurant Da Lello\, Marienstraße 5\, Hannover\, 30171\, Deutschland
CATEGORIES:Regionalgruppe Hannover,Regionalgruppen
ORGANIZER;CN="Regionalgruppe Hannover":MAILTO:hannover@bsb-office.de
END:VEVENT
BEGIN:VEVENT
DTSTART;TZID=UTC:20210427T193000
DTEND;TZID=UTC:20210427T210000
DTSTAMP:20260421T145804
CREATED:20210301T120203Z
LAST-MODIFIED:20210301T120203Z
UID:10897-1619551800-1619557200@bsboffice.de
SUMMARY:RG Stuttgart: Ist Sympathie eine Kunst? Das Geheimnis der gleichen Wellenlänge (via ZOOM)
DESCRIPTION:Referentin: Eva Neumann\, Kommunikationsexpertin
URL:https://bsboffice.de/event/rg-stuttgart-ist-sympathie-eine-kunst-das-geheimnis-der-gleichen-wellenlaenge-via-zoom/
CATEGORIES:Regionalgruppe Stuttgart,Regionalgruppen
END:VEVENT
BEGIN:VEVENT
DTSTART;TZID=UTC:20210428T183000
DTEND;TZID=UTC:20210428T200000
DTSTAMP:20260421T145804
CREATED:20210124T191749Z
LAST-MODIFIED:20210124T191749Z
UID:10764-1619634600-1619640000@bsboffice.de
SUMMARY:RG Saar: Sichtbar mehr Wertschätzung (via ZOOM)
DESCRIPTION:Referentin: Karin Knecht
URL:https://bsboffice.de/event/rg-saar-sichtbar-mehr-wertschaetzung-via-zoom/
LOCATION:Zoom
CATEGORIES:Regionalgruppe Saar,Regionalgruppen
END:VEVENT
BEGIN:VEVENT
DTSTART;TZID=UTC:20210429T190000
DTEND;TZID=UTC:20210429T203000
DTSTAMP:20260421T145804
CREATED:20210321T162700Z
LAST-MODIFIED:20210321T162700Z
UID:10951-1619722800-1619728200@bsboffice.de
SUMMARY:RG Berlin: Office 365 (via ZOOM)
DESCRIPTION:Referentin: Sigrid Hess
URL:https://bsboffice.de/event/rg-berlin-office-365-via-zoom/
CATEGORIES:Regionalgruppe Berlin,Regionalgruppen
ORGANIZER;CN="Regionalgruppe Berlin":MAILTO:berlin@bsboffice.de
END:VEVENT
END:VCALENDAR