BEGIN:VCALENDAR
VERSION:2.0
PRODID:-// - ECPv6.15.19//NONSGML v1.0//EN
CALSCALE:GREGORIAN
METHOD:PUBLISH
X-ORIGINAL-URL:https://bsboffice.de
X-WR-CALDESC:Veranstaltungen für 
REFRESH-INTERVAL;VALUE=DURATION:PT1H
X-Robots-Tag:noindex
X-PUBLISHED-TTL:PT1H
BEGIN:VTIMEZONE
TZID:UTC
BEGIN:STANDARD
TZOFFSETFROM:+0000
TZOFFSETTO:+0000
TZNAME:UTC
DTSTART:20200101T000000
END:STANDARD
END:VTIMEZONE
BEGIN:VEVENT
DTSTART;TZID=UTC:20210501T123000
DTEND;TZID=UTC:20210501T143000
DTSTAMP:20260421T114506
CREATED:20210225T103601Z
LAST-MODIFIED:20210225T105645Z
UID:10850-1619872200-1619879400@bsboffice.de
SUMMARY:RG Hannover: Traditionelles Spargelessen
DESCRIPTION:– Selbstzahler –
URL:https://bsboffice.de/event/rg-hannover-traditionelees-spargelessen/
LOCATION:Fuhrberger Spargelwirtschaft\, Trülldamm 5\, Fuhrberg\, 30938\, Deutschland
CATEGORIES:Regionalgruppe Hannover,Regionalgruppen
ORGANIZER;CN="Regionalgruppe Hannover":MAILTO:hannover@bsb-office.de
END:VEVENT
BEGIN:VEVENT
DTSTART;TZID=UTC:20210506T190000
DTEND;TZID=UTC:20210506T203000
DTSTAMP:20260421T114506
CREATED:20210226T172008Z
LAST-MODIFIED:20210331T194101Z
UID:10887-1620327600-1620333000@bsboffice.de
SUMMARY:RG Köln: Lebensunternehmer*Innen in verrückten Zeiten (via ZOOM)
DESCRIPTION:Referentin: Claudia Hans
URL:https://bsboffice.de/event/rg-koeln-resilienz-in-ver-rueckten-zeiten-via-zoom/
CATEGORIES:Regionalgruppe Köln,Regionalgruppen
END:VEVENT
BEGIN:VEVENT
DTSTART;TZID=UTC:20210506T190000
DTEND;TZID=UTC:20210506T203000
DTSTAMP:20260421T114506
CREATED:20210303T065855Z
LAST-MODIFIED:20210418T150401Z
UID:10912-1620327600-1620333000@bsboffice.de
SUMMARY:RG Rhein-Neckar: Damit aus einer Mücke kein Elefant wird - Vom  Konflikt zur Verständigung (via ZOOM)
DESCRIPTION:Referent: Marco D’Ambrosio \nWundern Sie sich manchmal\, dass das\, was Sie sagen\, bei Ihrem Gegenüber anders ankommt\, als Sie es gemeint haben? Und dann gibt ein Wort das andere und schon wird aus einem Gespräch ein Streit. In spielerischer Weise nähern Sie sich mit praxisnahen Beispielen den Fallstricken der Kommunikation. Sie lernen Wahrnehmung und Interpretation zu unterscheiden und ergründen\, worum es bei Konflikten geht. Die Methode der gewaltfreien Kommunikation hilft dabei\, alltagspraktische Ansätze für Ihren Umgang mit Ärger und Konflikten zu finden.
URL:https://bsboffice.de/event/rg-rhein-neckar-damit-aus-einer-muecke-kein-elefant-wird-vom-konflikt-zur-verstaendigung/
CATEGORIES:Regionalgruppe Rhein-Neckar,Regionalgruppen
END:VEVENT
BEGIN:VEVENT
DTSTART;TZID=UTC:20210506T190000
DTEND;TZID=UTC:20210506T210000
DTSTAMP:20260421T114506
CREATED:20210130T133638Z
LAST-MODIFIED:20210408T124216Z
UID:10792-1620327600-1620334800@bsboffice.de
SUMMARY:RG Düsseldorf: Eventmanagement 4.0 (via ZOOM oder hybrid)
DESCRIPTION:Virtuelle Formate statt Live Events professionell organisieren\nReferentin: Diana Brandl\, International Speaker\, Coach & Trainer
URL:https://bsboffice.de/event/rg-duesseldorf-eventmanagement-4-0/
CATEGORIES:Regionalgruppe Düsseldorf,Regionalgruppen
END:VEVENT
BEGIN:VEVENT
DTSTART;TZID=UTC:20210511T190000
DTEND;TZID=UTC:20210511T203000
DTSTAMP:20260421T114506
CREATED:20210505T070553Z
LAST-MODIFIED:20210505T070553Z
UID:11061-1620759600-1620765000@bsboffice.de
SUMMARY:RG Berlin: Souverän vor der webcam (via ZOOM)
DESCRIPTION:Referentin: Bettina Schöbitz
URL:https://bsboffice.de/event/rg-berlin-souveraen-vor-der-webcam-via-zoom/
CATEGORIES:Regionalgruppe Berlin,Regionalgruppen
END:VEVENT
BEGIN:VEVENT
DTSTART;TZID=UTC:20210511T190000
DTEND;TZID=UTC:20210511T210000
DTSTAMP:20260421T114506
CREATED:20210406T132406Z
LAST-MODIFIED:20210406T132740Z
UID:11003-1620759600-1620766800@bsboffice.de
SUMMARY:RG Ruhrgebiet: MS Teams (tbc) Zoom/vor Ort in Essen
DESCRIPTION:Referentin: Enisa Romanic
URL:https://bsboffice.de/event/rg-ruhrgebiet-ms-teams-via-zoom/
CATEGORIES:Regionalgruppe Ruhrgebiet,Regionalgruppen
END:VEVENT
BEGIN:VEVENT
DTSTART;TZID=UTC:20210520T183000
DTEND;TZID=UTC:20210520T200000
DTSTAMP:20260421T114506
CREATED:20210124T191944Z
LAST-MODIFIED:20210507T075311Z
UID:10766-1621535400-1621540800@bsboffice.de
SUMMARY:RG Saar: Machen Sie mich mal digital (via ZOOM)
DESCRIPTION:Referentin: Silke Nevermann \nWir sprechen über digitale Chef*innen-Entlastung & Mobiles Arbeiten im wahren Leben und beantworten die Frage\, wie organisiere ich die digitale Zusammenarbeit mit der/m Vorgesetzten in den vernetzten Zeiten von MS Teams\, Zoom\, Chats und anderen digitalen Kommunikationskanälen wirksam und effizient. Mit welchen Tools und Teamverabredungen kann wirksame virtuelle Zusammenarbeit gelingen? Wie bin und bleibe ich im Home Office auf dem aktuellen Informationsstand und im Team gut vernetzt?
URL:https://bsboffice.de/event/rg-saar-bueroorganisation-in-zeiten-von-mail-facebook-zoom-co-via-zoom/
LOCATION:Zoom
CATEGORIES:Regionalgruppe Saar,Regionalgruppen
END:VEVENT
BEGIN:VEVENT
DTSTART;TZID=UTC:20210525T190000
DTEND;TZID=UTC:20210525T200000
DTSTAMP:20260421T114506
CREATED:20210301T120403Z
LAST-MODIFIED:20210417T100220Z
UID:10899-1621969200-1621972800@bsboffice.de
SUMMARY:RG Stuttgart: Grundlagen Social Media für die Assistenz (via ZOOM)
DESCRIPTION:Referentin: Stefanie Kutz-Getrost\, Social Media Expertin
URL:https://bsboffice.de/event/rg-stuttgart-grundlagen-social-media-fuer-die-assistenz-via-zoom/
CATEGORIES:Regionalgruppe Stuttgart,Regionalgruppen
END:VEVENT
BEGIN:VEVENT
DTSTART;TZID=UTC:20210526T190000
DTEND;TZID=UTC:20210526T203000
DTSTAMP:20260421T114506
CREATED:20210411T150423Z
LAST-MODIFIED:20210411T150423Z
UID:11017-1622055600-1622061000@bsboffice.de
SUMMARY:RG Frankfurt: Jahresversammlung (via ZOOM)
DESCRIPTION:Jahresversammlung 2020 (online) inkl. Wahl der Regionalgruppenleitung \n– nur für Mitglieder der RG Frankfurt –
URL:https://bsboffice.de/event/rg-frankfurt-jahresversammlung-via-zoom/
CATEGORIES:Regionalgruppe Frankfurt,Regionalgruppen
END:VEVENT
END:VCALENDAR