BEGIN:VCALENDAR
VERSION:2.0
PRODID:-// - ECPv6.15.19//NONSGML v1.0//EN
CALSCALE:GREGORIAN
METHOD:PUBLISH
X-ORIGINAL-URL:https://bsboffice.de
X-WR-CALDESC:Veranstaltungen für 
REFRESH-INTERVAL;VALUE=DURATION:PT1H
X-Robots-Tag:noindex
X-PUBLISHED-TTL:PT1H
BEGIN:VTIMEZONE
TZID:UTC
BEGIN:STANDARD
TZOFFSETFROM:+0000
TZOFFSETTO:+0000
TZNAME:UTC
DTSTART:20200101T000000
END:STANDARD
END:VTIMEZONE
BEGIN:VEVENT
DTSTART;TZID=UTC:20210810T183000
DTEND;TZID=UTC:20210810T200000
DTSTAMP:20260419T163156
CREATED:20210806T075329Z
LAST-MODIFIED:20210806T075427Z
UID:11271-1628620200-1628625600@bsboffice.de
SUMMARY:RG Ruhrgebiet: Was gibts Neues in der DIN 5008:2020?
DESCRIPTION:Referentin: Rosi Rehbein
URL:https://bsboffice.de/event/rg-ruhrgebiet-din-50082020/
LOCATION:Restaurant Hügoloss\, Freiherr-vom-Stein-Straße 211A\, Essen\, 45133\, Deutschland
CATEGORIES:Regionalgruppe Ruhrgebiet,Regionalgruppen
END:VEVENT
BEGIN:VEVENT
DTSTART;TZID=UTC:20210812T190000
DTEND;TZID=UTC:20210812T203000
DTSTAMP:20260419T163156
CREATED:20210505T071523Z
LAST-MODIFIED:20210505T071523Z
UID:11066-1628794800-1628800200@bsboffice.de
SUMMARY:RG Köln: Business Talk mit Schliff
DESCRIPTION:Referentin: Judith Wambach
URL:https://bsboffice.de/event/rg-koeln-business-talk-mit-schliff/
LOCATION:Hotel Collegium Leoninum\, Hotel Collegium Leoninum\, Bonn\, 53111\, Deutschland
CATEGORIES:Regionalgruppe Köln,Regionalgruppen
END:VEVENT
END:VCALENDAR