BEGIN:VCALENDAR
VERSION:2.0
PRODID:-// - ECPv6.15.19//NONSGML v1.0//EN
CALSCALE:GREGORIAN
METHOD:PUBLISH
X-ORIGINAL-URL:https://bsboffice.de
X-WR-CALDESC:Veranstaltungen für 
REFRESH-INTERVAL;VALUE=DURATION:PT1H
X-Robots-Tag:noindex
X-PUBLISHED-TTL:PT1H
BEGIN:VTIMEZONE
TZID:UTC
BEGIN:STANDARD
TZOFFSETFROM:+0000
TZOFFSETTO:+0000
TZNAME:UTC
DTSTART:20210101T000000
END:STANDARD
END:VTIMEZONE
BEGIN:VEVENT
DTSTART;TZID=UTC:20220803T190000
DTEND;TZID=UTC:20220803T203000
DTSTAMP:20260424T130401
CREATED:20220719T061355Z
LAST-MODIFIED:20220719T062033Z
UID:12036-1659553200-1659558600@bsboffice.de
SUMMARY:RG Düsseldorf: Netzwerkabend und Ideentank
DESCRIPTION:– nur für Mitglieder – \nOrt: wird noch bekanntgegeben
URL:https://bsboffice.de/event/rg-duesseldorf-netzwerkabend-und-ideentank/
CATEGORIES:Regionalgruppe Düsseldorf,Regionalgruppen
ORGANIZER;CN="RG D%C3%BCsseldorf":MAILTO:duesseldorf@bsb-office.de
END:VEVENT
BEGIN:VEVENT
DTSTART;TZID=UTC:20220804T080000
DTEND;TZID=UTC:20220804T170000
DTSTAMP:20260424T130401
CREATED:20220804T092843Z
LAST-MODIFIED:20220804T092843Z
UID:12065-1659600000-1659632400@bsboffice.de
SUMMARY:
DESCRIPTION:cxxcklökököklbnjklhhybvbxcbcxbxvcbvb
URL:https://bsboffice.de/event/12065/
CATEGORIES:bSb-Bildungspartner
END:VEVENT
BEGIN:VEVENT
DTSTART;TZID=UTC:20220805T080000
DTEND;TZID=UTC:20220805T170000
DTSTAMP:20260424T130401
CREATED:20220805T093218Z
LAST-MODIFIED:20220805T093638Z
UID:12073-1659686400-1659718800@bsboffice.de
SUMMARY:
DESCRIPTION:cxvxybvcbcx
URL:https://bsboffice.de/event/xxx/
END:VEVENT
BEGIN:VEVENT
DTSTART;TZID=UTC:20220811T183000
DTEND;TZID=UTC:20220811T210000
DTSTAMP:20260424T130401
CREATED:20220530T143045Z
LAST-MODIFIED:20220530T143045Z
UID:11944-1660242600-1660251600@bsboffice.de
SUMMARY:RG Frankfurt: Sommerevent - Netzwerken
DESCRIPTION:-Exklusiv für Mitglieder der RG Frankfurt- \nGet-Together und Netzwerken im Leonardo Hotel Offenbach am Kaiserlei. \nAnmeldung per E-Mail: frankfurt@bsb-office.de
URL:https://bsboffice.de/event/rg-frankfurt-sommerevent-netzwerken/
LOCATION:Leonardo Hotel Offenbach Frankfurt\, Kaiserleistr. 39\, Offenbach\, 63067\, Deutschland
CATEGORIES:Regionalgruppe Frankfurt,Regionalgruppen
END:VEVENT
BEGIN:VEVENT
DTSTART;TZID=UTC:20220811T190000
DTEND;TZID=UTC:20220811T210000
DTSTAMP:20260424T130401
CREATED:20220802T111235Z
LAST-MODIFIED:20220802T111351Z
UID:12053-1660244400-1660251600@bsboffice.de
SUMMARY:RG Köln:  Hybrid Work und das neue Arbeiten (via ZOOM)
DESCRIPTION:Referentin: Diana Brandl blickt auf eine fast 20jährige erfolgreiche Karriere als Senior Executive Assistant auf Topmanagement-Ebene in Unternehmen wie ratiopharm\, Sony\, Babbel und Mister Spex zurück. Sie engagiert sich intensiv für das Berufsbild der Office Professionals und war im Vorstand als auch als Regionalgruppenleitung bei IMA (International Management Assistants) Deutschland tätig.\nMehr Informationen unter: https://the-socialista-projects.com/ \nInhalt: 2020 mussten zahlreiche Unternehmen ihre Arbeitsmodelle umstellen. Homeoffice hat für viele funktioniert\, für andere weniger. Aktuell beschäftigen wir uns noch immer damit\, was passiert\, wenn wir wieder ins Büro zurückkehren. Wie werden wir künftig arbeiten? Das hybride Arbeiten gehört zu den Arbeitsmodellen der Zukunft und wird derzeit heiß diskutiert. \nWie bereiten wir uns auf unsere „neue Normalität“ vor und ermöglichen eine sichere Rückkehr ins Büro ohne Stress und dafür mit effektivem Selbstmanagement für sich und das gesamte Team? \nAnmeldung per E-Mail: koeln@bsb-office.de
URL:https://bsboffice.de/event/rg-koeln-hybrid-work-und-das-neue-arbeiten-via-zoom/
LOCATION:Zoom
CATEGORIES:Regionalgruppe Köln,Regionalgruppen
END:VEVENT
BEGIN:VEVENT
DTSTART;TZID=UTC:20220822T183000
DTEND;TZID=UTC:20220822T190000
DTSTAMP:20260424T130401
CREATED:20220704T130450Z
LAST-MODIFIED:20220704T130633Z
UID:12006-1661193000-1661194800@bsboffice.de
SUMMARY:RG Berlin: Microsoft Teams
DESCRIPTION:Referentin: Katharina Hübner \nAnmeldung per E-Mail: berlin@bsb-office.de
URL:https://bsboffice.de/event/rg-berlin-microsoft-teams/
LOCATION:Regattastr. 189\, Berlin
CATEGORIES:Regionalgruppe Berlin,Regionalgruppen
ORGANIZER;CN="Regionalgruppe Berlin":MAILTO:berlin@bsb-office.de
END:VEVENT
BEGIN:VEVENT
DTSTART;TZID=UTC:20220829T180000
DTEND;TZID=UTC:20220829T203000
DTSTAMP:20260424T130401
CREATED:20220828T175029Z
LAST-MODIFIED:20220828T175029Z
UID:12106-1661796000-1661805000@bsboffice.de
SUMMARY:RG Frankfurt: Sommerevent - Netzwerken
DESCRIPTION:-Exklusiv für Mitglieder der RG Frankfurt- \nGet-Together und Netzwerken im Brera Serviced Apartments Frankfurt West. \nAnmeldung per E-Mail: frankfurt@bsb-office.de
URL:https://bsboffice.de/event/rg-frankfurt-sommerevent-netzwerken-2/
LOCATION:Brera Serviced Apartments Frankfurt West\, Solmsstr. 56\, Frankfurt\, 60486\, Deutschland
CATEGORIES:Regionalgruppe Frankfurt,Regionalgruppen
END:VEVENT
END:VCALENDAR