BEGIN:VCALENDAR
VERSION:2.0
PRODID:-// - ECPv6.15.19//NONSGML v1.0//EN
CALSCALE:GREGORIAN
METHOD:PUBLISH
X-ORIGINAL-URL:https://bsboffice.de
X-WR-CALDESC:Veranstaltungen für 
REFRESH-INTERVAL;VALUE=DURATION:PT1H
X-Robots-Tag:noindex
X-PUBLISHED-TTL:PT1H
BEGIN:VTIMEZONE
TZID:UTC
BEGIN:STANDARD
TZOFFSETFROM:+0000
TZOFFSETTO:+0000
TZNAME:UTC
DTSTART:20220101T000000
END:STANDARD
END:VTIMEZONE
BEGIN:VEVENT
DTSTART;TZID=UTC:20230419T180000
DTEND;TZID=UTC:20230419T190000
DTSTAMP:20260424T132543
CREATED:20230417T185521Z
LAST-MODIFIED:20230424T054801Z
UID:12510-1681927200-1681930800@bsboffice.de
SUMMARY:Netzwerk Hannover: Vorstellung des Buchungstools eHotels (via ZOOM)
DESCRIPTION:Referent: Ingo Ackermann \nKosten: für Mitglieder des Netzwerks Hannover kostenlos\, Gäste zahlen 5 Euro. \nAnmeldung per E-Mail: hannover@bsb-office.de
URL:https://bsboffice.de/event/netzwerk-hannover-vorstellung-des-buchungstools-ehotels-via-zoom/
LOCATION:Zoom
CATEGORIES:Regionalgruppe Hannover,Regionalgruppen
ORGANIZER;CN="Regionalgruppe Hannover":MAILTO:hannover@bsb-office.de
END:VEVENT
BEGIN:VEVENT
DTSTART;TZID=UTC:20230420T190000
DTEND;TZID=UTC:20230420T203000
DTSTAMP:20260424T132543
CREATED:20230301T182727Z
LAST-MODIFIED:20230330T113925Z
UID:12403-1682017200-1682022600@bsboffice.de
SUMMARY:Premium Online-Fachabend -  Cyber Security - mehr Sicherheit in der digitalen Welt Von Phishing bis Multi-Factor-Authentication
DESCRIPTION:Referenten: Julia Jüttner & Fabian Schild \nJulia Jüttner und Fabian Schild werden über die wichtigsten Bedrohungen in unserem digitalisierten Alltag informieren und uns wertvolle Tipps und bewährte Verfahren an die Hand geben\, damit wir uns beruflich und auch privat sicher verhalten. \nSie vermitteln uns praxisnah ein tieferes Verständnis der Cybersicherheit und praktische Erkenntnisse darüber\, wie wir uns und das Unternehmen vor modernen Bedrohungen schützen können. Ganz gleich\, ob erfahrener Profi oder Neuling\, dieser Vortrag wird für jeden etwas bieten. \nJulia Jüttner Julia ist Expertin für Cybersicherheit mit mehr als 10 Jahren Erfahrung im Bankwesen und in der Beratung. Neben der Konzeption und Umsetzung von Securtiy Awareness und Training-Kampagnen verantwortete sie u. a. das Information Security Risk Management für eine EZB-regulierte Bank. \nFabian Schild hat mehr als 15 Jahre Erfahrung in IT und Informationssicherheit.\nIn dieser Zeit hat er mit den Schwerpunkten Cyber Defence und Resilience in KRITIS-relevanten Unternehmen Unternehmenssicherheit aufgebaut und weiterentwickelt. \nAnmeldung per E-Mail: onlineteam-finanzen@bsb-office.de \nAnmeldeschluss: 17.04.2023 \nKosten: für bSb-Mitglieder mit dem Premium-Paket kostenlos\, bSb-Mitglieder ohne Premium-Paket EUR 15\,00\, IMA-Mitglieder EUR 20\,00\, Gäste EUR 25\,00.
URL:https://bsboffice.de/event/premium-online-fachabend-cyber-security-mehr-sicherheit-in-der-digitalen-welt-von-phishing-bis-multi-factor-authentication/
LOCATION:Zoom
CATEGORIES:bSb-Termine Bundesverband
ORGANIZER;CN="bSb Bundesverband Sekretariat und B%C3%BCromanagement e. V.":MAILTO:info@bsboffice.de
END:VEVENT
BEGIN:VEVENT
DTSTART;TZID=UTC:20230426T180000
DTEND;TZID=UTC:20230426T200000
DTSTAMP:20260424T132543
CREATED:20230417T185802Z
LAST-MODIFIED:20230424T054707Z
UID:12512-1682532000-1682539200@bsboffice.de
SUMMARY:Netzwerk Hannover: Traditionelles Spargelessen
DESCRIPTION:Selbstzahler \nAnmeldung per E-Mail: hannover@bsb-office.de
URL:https://bsboffice.de/event/netzwerk-hannover-traditionelles-spargelessen/
LOCATION:Fuhrberger Spargelwirtschaft\, Trülldamm 5\, Fuhrberg\, 30938\, Deutschland
CATEGORIES:Regionalgruppe Hannover,Regionalgruppen
ORGANIZER;CN="Regionalgruppe Hannover":MAILTO:hannover@bsb-office.de
END:VEVENT
BEGIN:VEVENT
DTSTART;TZID=UTC:20230426T190000
DTEND;TZID=UTC:20230426T203000
DTSTAMP:20260424T132543
CREATED:20230414T063240Z
LAST-MODIFIED:20230417T184915Z
UID:12488-1682535600-1682541000@bsboffice.de
SUMMARY:Netzwerk Düsseldorf: Wohin geht die Reise? Die Zukunft der Assistenz aus astrologischer Sicht
DESCRIPTION:Impulsvortrag mit anschließendem Netzwerkabend \nReferentin: Maria Schlicker \nDer Netzwerkabend startet mit einem Impulsvortrag der psychologischen Astrologin Maria Schlicker. Basierend auf den Sternenkonstellationen für das Jahr 2023 / 2024 zeigt sie uns den astrologischen Ausblick auf die Chancen und Herausforderungen für die kommende Zeit. \nSie zeigt uns außerdem die möglichen Entwicklungen für die Arbeitswelt und gibt konkrete Tipps\, wie jede Einzelne die Zeitqualität optimal für sich nutzen kann. Astrologen haben seit Menschengedenken die Stellung der Planeten gedeutet\, um Aussagen über Möglichkeiten und Risiken der nahen Zukunft zu machen. Der Impusvortrag berücksichtigt die kommenden Sternenkonstellationen\, so dass wir im Vorfeld die Weichen für beruflichliche und auch private Vorhaben richtig stellen können. \nMaria Schlicker hat viele jahre als Software-Entwicklerin in Großprojekten gearbeitet. Mit Mitte 30 hat sie – in einer Lebenskrise – selbst wertvolle Hilfe durch eine Astrologin erfahren. Das hat sie so beeindruckt\, dass sie sich das Wissen der Horoskop-Deutung angeeignet hat und nunmehr seit über 20 Jahren Klienten auf Grundlage des jeweiligen persönlichen Horoskops coacht. \nTreffen im Restaurant des Hotels ab 18:30 Uhr. \nInteressent:innen sind herzlich willkommen und zahlen einen Gastbeitrag von 25 Euro. \nAnmeldung per E-Mail: duesseldorf@bsb-office.de
URL:https://bsboffice.de/event/rg-duesseldorf-wohin-geht-die-reise-die-zukunft-der-assistenz-aus-astrologischer-sicht/
LOCATION:Adina Apartment Hotel Düsseldorf\, Harkortstraße 10\, Düsseldorf\, 40210
CATEGORIES:Regionalgruppe Düsseldorf,Regionalgruppen
END:VEVENT
END:VCALENDAR