BEGIN:VCALENDAR
VERSION:2.0
PRODID:-// - ECPv6.15.19//NONSGML v1.0//EN
CALSCALE:GREGORIAN
METHOD:PUBLISH
X-ORIGINAL-URL:https://bsboffice.de
X-WR-CALDESC:Veranstaltungen für 
REFRESH-INTERVAL;VALUE=DURATION:PT1H
X-Robots-Tag:noindex
X-PUBLISHED-TTL:PT1H
BEGIN:VTIMEZONE
TZID:UTC
BEGIN:STANDARD
TZOFFSETFROM:+0000
TZOFFSETTO:+0000
TZNAME:UTC
DTSTART:20240101T000000
END:STANDARD
END:VTIMEZONE
BEGIN:VEVENT
DTSTART;TZID=UTC:20250618T190000
DTEND;TZID=UTC:20250618T190000
DTSTAMP:20260424T143241
CREATED:20250505T172458Z
LAST-MODIFIED:20250505T172626Z
UID:13210-1750273200-1750273200@bsboffice.de
SUMMARY:Premium Online-Abend: Was Sie zu den Themen "Kündigung\, Aufhebungsvertrag und Urlaubsrecht" wissen sollten
DESCRIPTION:Referentin: Simone Sieve-Singer \nDie Referentin erläutert praxisnah die wichtigsten Aspekte zu den Themen \n\nKündigung vonArbeitsverhältnissen\nKündigungsgründe -welche gibt es und wann sind sie rechtswirksam?\nAuflösungsvertrag – ja oder nein?\nUrlaubsrecht\n\nIm Anschluss besteht die Möglichkeit Fragen zu stellen. \nAnmeldung per E-Mail: onlineteam-finanzen@bsb-office.de \nAnmeldeschluss: 16.06.2025 \nTeilnahmegebühr: für bSb-Mitglieder mit dem Premium-Paket kostenlos\, bSb-Mitglieder ohne Premium-Paket EUR 15\,00\, IMA-Mitglieder EUR 20\,00\, Gäste EUR 25\,00.
URL:https://bsboffice.de/event/premium-online-abendwas-sie-zu-den-themen-kuendigung-aufhebungsvertrag-und-urlaubsrecht-wissen-sollten/
LOCATION:Zoom
END:VEVENT
END:VCALENDAR